Workbook

Sheet Οδηγίες
B2: Χρηματοδοτείται από την Ευρωπαϊκή Ένωση. Ωστόσο, οι απόψεις και οι γνώμες που εκφράζονται είναι αποκλειστικά των συγγραφέων και δεν αντανακλούν απαραίτητα αυτές της Ευρωπαϊκής Ένωσης ή του Ευρωπαϊκού Οργανισμού Εκπαίδευσης και Πολιτισμού (EACEA). Ούτε η Ευρωπαϊκή Ένωση ούτε ο EACEA μπορούν να θεωρηθούν υπεύθυνοι για αυτές.
B3: Εργαλείο αυτοαξιολόγησης IMVET — Οδηγίες χρήσης
B4: ΣΚΟΠΟΣ
B5: Αυτό το εργαλείο αυτοαξιολόγησης έχει σχεδιαστεί για εκπαιδευτικούς και προσωπικό της Επαγγελματικής Εκπαίδευσης και Κατάρτισης (ΕΕΚ) προκειμένου να αξιολογήσουν την ετοιμότητά τους να οργανώσουν προγράμματα διεθνούς κινητικότητας για μαθητές με αναπηρίες και/ή πρόσθετες ανάγκες υποστήριξης. Καλύπτει 6 βασικούς τομείς (ενότητες) και παράγει μια συνολική βαθμολογία για κάθε τομέα ως οδηγό για βελτιώσεις. Οι συστάσεις παρέχονται ανά ενότητα και ανά επίπεδο ετοιμότητας. Η προσέγγιση είναι αθροιστική: κάθε υψηλότερο επίπεδο βασίζεται στα προηγούμενα, προσθέτοντας περαιτέρω βελτιώσεις. ΠΌΤΕ ΝΑ ΧΡΗΣΙΜΟΠΟΙΗΣΕΤΕ ΑΥΤΌ ΤΟ ΕΡΓΑΛΕΊΟ: • Πριν από τον σχεδιασμό ενός νέου προγράμματος κινητικότητας, για να εντοπίσετε κενά και να προετοιμάσετε εκ των προτέρων δομές υποστήριξης. • Ετησίως — ως τακτική ανασκόπηση για την παρακολούθηση της προόδου και την επικαιροποίηση των σχεδίων δράσης. • Ως ομαδική δραστηριότητα — συμπληρώνεται συνεργατικά από συντονιστές κινητικότητας, προσωπικό ένταξης και διοίκηση, με σκοπό την ανάπτυξη κοινής συνειδητοποίησης. • Μετά από μια κινητικότητα — για να αναστοχαστείτε σχετικά με το τι λειτούργησε και τι χρειάζεται βελτίωση για μελλοντικούς συμμετέχοντες. • Κατά την ένταξη νέου προσωπικού — για την ευαισθητοποίηση σχετικά με τις απαιτήσεις της κινητικότητας χωρίς αποκλεισμούς σε ολόκληρο τον οργανισμό σας.
B7: ΠΩΣ ΝΑ ΣΥΜΠΛΗΡΩΣΕΤΕ ΤΟ ΕΡΓΑΛΕΙΟ
B8: Βήμα 1 → Μεταβείτε στην καρτέλα «Πίνακας αποτελεσμάτων» και συμπληρώστε το όνομα του οργανισμού σας και την ημερομηνία αξιολόγησης. Βήμα 2 → Μεταβείτε στην καρτέλα «Αξιολόγηση ενοτήτων». Για κάθε ερώτηση, κάντε κλικ στο κελί της στήλης ΒΑΘΜΟΛΟΓΙΑ (D) και επιλέξτε μια τιμή από 1 έως 4 χρησιμοποιώντας το αναπτυσσόμενο μενού. Βήμα 3 → Προαιρετικά, προσθέστε σημειώσεις ελεύθερου κειμένου στη στήλη «Σχόλια» (G) για οποιαδήποτε ερώτηση. Βήμα 4 → Επιστρέψτε στην καρτέλα «Πίνακας αποτελεσμάτων» για να δείτε τις βαθμολογίες των ενοτήτων, τις ετικέτες επιπέδου και τη σύνοψη του ραβδογράμματος.
B10: ΚΛΙΜΑΚΑ ΒΑΘΜΟΛΟΓΗΣΗΣ
B11: 0 — Δεν υπάρχει Δεν υπάρχει πολιτική, πρακτική ή στοιχεία σχετικά με την κινητικότητα χωρίς αποκλεισμούς. 1 — Περιορισμένα στοιχεία Υπάρχει κάποια ευαισθητοποίηση, αλλά οι δράσεις είναι ελάχιστες ή ασυνεπείς. Η προσβασιμότητα είναι κυρίως ad hoc. 2 — Βασικό επίπεδο Υπάρχουν ορισμένες πολιτικές ή διαδικασίες, αλλά δεν εφαρμόζονται με συνέπεια. 3 — Καλά αναπτυγμένο / δομημένο Υπάρχουν σαφείς πολιτικές και διαδικασίες για την υποστήριξη της κινητικότητας χωρίς αποκλεισμούς. Το προσωπικό είναι εκπαιδευμένο, η προβολή είναι ενεργή, οι προσαρμογές είναι προγραμματισμένες και η παρακολούθηση βρίσκεται σε εξέλιξη. 4 — Εξαιρετικό / Πλήρως ενσωματωμένο Η κινητικότητα χωρίς αποκλεισμούς είναι πλήρως ενσωματωμένη στην κουλτούρα και τη στρατηγική του οργανισμού: προληπτική πρόσληψη, ολοκληρωμένα συστήματα υποστήριξης, συν-δημιουργία με τους συμμετέχοντες και τακτική αξιολόγηση.
B13: ΕΝΟΤΗΤΕΣ ΠΟΥ ΚΑΛΥΠΤΟΝΤΑΙ
B14: Ενότητα 1 — Εξατομικευμένες ανάγκες και υποστήριξη: Προσδιορισμός των ατομικών αναγκών και παροχή της κατάλληλης υποστήριξης, ώστε κάθε συμμετέχων να μπορεί να συμμετέχει πλήρως και με επιτυχία στις δραστηριότητες κινητικότητας. Ενότητα 2 — Πολιτική, πόροι και χρηματοδότηση: Διασφάλιση της διαθεσιμότητας και της αποτελεσματικής χρήσης της απαραίτητης οικονομικής υποστήριξης και των πόρων, ώστε να καταστούν δυνατές δραστηριότητες κινητικότητας χωρίς αποκλεισμούς και με επιτυχία. Ενότητα 3 — Νομικές & Ηθικές Πτυχές: Να διασφαλιστεί ότι όλες οι δραστηριότητες κινητικότητας ακολουθούν τις νομικές απαιτήσεις και σέβονται τις ηθικές αρχές, προστατεύοντας τα δικαιώματα, την ασφάλεια και την ευημερία όλων των συμμετεχόντων. Ενότητα 4 — Πολιτισμική Ευαισθησία & Ευαισθητοποίηση: Να διασφαλιστεί ότι όλοι οι συμμετέχοντες στην κινητικότητα είναι προετοιμασμένοι για πολιτισμικές διαφορές και υποστηρίζονται ώστε να κινούνται σε διαφορετικά περιβάλλοντα με σεβασμό και αυτοπεποίθηση. Ενότητα 5 — Ενταξιακή επικοινωνία και ψηφιακή προσβασιμότητα: Να διασφαλιστεί ότι όλες οι πληροφορίες και η επικοινωνία που σχετίζονται με την κινητικότητα είναι προσβάσιμες, σαφείς και ενταξιακές για τους φοιτητές μεαναπηρίες και τα δίκτυα υποστήριξής τους. Ενότητα 6 — Ευαισθητοποίηση και υπεράσπιση: Να διασφαλιστεί ότι οι φοιτητές με αναπηρίες ενημερώνονται ενεργά και ενθαρρύνονται να συμμετέχουν σε ευκαιρίες κινητικότητας, και ότι οι οργανισμοί προωθούν ενταξιακές πρακτικές εσωτερικά και με τους εταίρους τους.
B16: ΣΗΜΑΝΤΙΚΕΣ ΣΗΜΕΙΩΣΕΙΣ
B17: • Καταχωρίστε τις βαθμολογίες μόνο στα κελιά που είναι επισημασμένα με κίτρινο χρώμα στο φύλλο «Αξιολόγηση Ενότητας». • Μην τροποποιείτε τις ερωτήσεις, τους τύπους ή το κρυφό φύλλο αναφοράς «Βαθμολογίες». • Όλοι οι μέσοι όροι και οι ετικέτες υπολογίζονται αυτόματα. • Το εργαλείο αυτό αποτελεί μέρος του προγράμματος IMVET Erasmus+ για την κινητικότητα στην ΕΕΚ χωρίς αποκλεισμούς. Χρηματοδοτείται από την Ευρωπαϊκή Ένωση. Ωστόσο, οι απόψεις και οι γνώμες που εκφράζονται είναι αποκλειστικά των συγγραφέων και δεν αντανακλούν απαραίτητα αυτές της Ευρωπαϊκής Ένωσης ή του Ευρωπαϊκού Οργανισμού Εκπαίδευσης και Πολιτισμού (EACEA). Ούτε η Ευρωπαϊκή Ένωση ούτε ο EACEA μπορούν να θεωρηθούν υπεύθυνοι για αυτές.

Sheet Αξιολόγηση ενοτήτων
A1: IMVET — Εργαλείο αυτοαξιολόγησης: Οργανωτική ετοιμότητα για την κινητικότητα των φοιτητών χωρίς αποκλεισμούς
A2: Ερώτηση | D2: Βαθμολογία | E2: Επίπεδο | F2: Περαιτέρω εξήγηση της βαθμολογίας, ανατρέξτε στην καρτέλα «Συστάσεις» για περισσότερες πληροφορίες | G2: Σχόλια (ελεύθερο κείμενο)
D3: Επιλέξτε μεταξύ: 0 = Δεν υπάρχει 1 = Περιορισμένα στοιχεία 2 = Βασικό επίπεδο 3 = Καλά ανεπτυγμένο / δομημένο 4 = Εξαιρετικό / πλήρως ενσωματωμένο Αφήστε κενό = Δεν γνωρίζω (οι κενές βαθμολογίες δεν υπολογίζονται)
A5: ΕΝΟΤΗΤΑ 1. Εξατομικευμένες ανάγκες και υποστήριξη
A6: Πεδίο εφαρμογής: | C6: Να προσδιοριστούν οι ατομικές ανάγκες και να παρασχεθεί η κατάλληλη υποστήριξη, ώστε κάθε συμμετέχων να μπορεί να συμμετέχει πλήρως και με επιτυχία στις δραστηριότητες κινητικότητας. | H6: • Καταρτίστε ένα σχέδιο υποστήριξης κινητικότητας λαμβάνοντας υπόψη τις ανάγκες των φοιτητών με αναπηρίες. • Εμπλέξτε τους φοιτητές στη δημιουργία του δικού τους σχεδίου, ώστε να μπορούν να μοιραστούν την υποστήριξη που χρειάζονται. • Αναζητήστε σχέδια κινητικότητας χωρίς αποκλεισμούς από άλλα ιδρύματα για έμπνευση. | I6: • Επανεξετάστε τακτικά το σχέδιο υποστήριξης κινητικότητας με τον φοιτητή πριν, κατά τη διάρκεια και μετά την κινητικότητα. • Αξιολογήστε την εμπειρία κινητικότητας εκ των υστέρων χρησιμοποιώντας το σχέδιο υποστήριξης ως σημείο αναφοράς. • Προσαρμόστε το σχέδιο ώστε να διασφαλιστεί η πλήρης κάλυψη των αναγκών κάθε φοιτητή.
A7: 1 | C7: Διαθέτει ο οργανισμός σας σχέδιο υποστήριξης της κινητικότητας για φοιτητές με ειδικές ανάγκες; | E7: =IFERROR(INDEX(Βαθμολογίες!$B$2:$B$6, MATCH(ROUND(D7,0), Βαθμολογίες!$A$2:$A$6, 0)), "") -> Δεν υπάρχει | H7: • Δημιουργήστε δομημένες ευκαιρίες για τους φοιτητές να συμμετέχουν ενεργά στον σχεδιασμό της δικής τους κινητικότητας. • Καθορίστε ένα απλό σχέδιο παρακολούθησης για τη συμμετοχή των μαθητών με αναπηρίες. • Συμπεριλάβετε τη συμμετοχή των φοιτητών ως ένα τυπικό βήμα στη διαδικασία σχεδιασμού της κινητικότητας. | I7: • Σχεδιάστε από κοινού το σχέδιο υποστήριξης κινητικότητας μαζί με τον φοιτητή, αναθεωρώντας το σε κάθε στάδιο. • Καταγράψτε τις απόψεις των φοιτητών και παρακολουθήστε αν οι δηλωμένες ανάγκες τους ικανοποιούνται. • Χρησιμοποιήστε τα δεδομένα συμμετοχής για να βελτιώσετε τις μελλοντικές διαδικασίες σχεδιασμού κινητικότητας.
A8: 2 | C8: Συμμετέχουν οι φοιτητές στη δημιουργία του δικού τους σχεδίου υποστήριξης κινητικότητας; | E8: =IFERROR(INDEX(Βαθμολογίες!$B$2:$B$6, MATCH(ROUND(D8,0), Βαθμολογίες!$A$2:$A$6, 0)), "") -> Δεν υπάρχει | H8: • Καθορίστε μια σαφή και συστηματική διαδικασία επιλογής για τον συνοδό. • Βεβαιωθείτε ότι ο συνοδός παρέχει τόσο σωματική όσο και συναισθηματική υποστήριξη. • Οικοδομήστε τη σχέση μεταξύ του συνοδού και του μαθητή πριν από την αναχώρηση. | I8: • Επεκτείνετε το δίκτυο υποστήριξης εμπλέκοντας το προσωπικό του οργανισμού υποδοχής (εκπαιδευτή, συνάδελφο) παράλληλα με τον συνοδό. • Αναγνωρίστε και εκτιμήστε επίσημα τη συμβολή του συνοδού. • Δημιουργήστε ένα κοινό πρωτόκολλο με ενδιάμεσους οργανισμούς για εξατομικευμένη συνοδευτική υποστήριξη.
A9: 3 | C9: Μπορεί ο οργανισμός σας να παρέχει κατάλληλο συνοδό με τις κατάλληλες γνώσεις και δεξιότητες για μαθητές με ειδικές ανάγκες; | E9: =IFERROR(INDEX(Βαθμολογίες!$B$2:$B$6, MATCH(ROUND(D9,0), Βαθμολογίες!$A$2:$A$6, 0)), "") -> Δεν υπάρχει | H9: • Καθορισμός σχεδίου κατάρτισης του προσωπικού που περιλαμβάνει εξατομικευμένη υποστήριξη για φοιτητές με αναπηρίες. • Ευαισθητοποίηση του προσωπικού σχετικά με τις συγκεκριμένες προκλήσεις που αντιμετωπίζουν οι φοιτητές με αναπηρίες κατά τη διάρκεια της κινητικότητας. • Αναζήτηση εξωτερικών οργανισμών που μπορούν να παρέχουν εμπειρογνωμοσύνη ή εκπαιδευτικό υλικό. | I9: • Αξιολογήστε την υπάρχουσα κατάρτιση του προσωπικού και εντοπίστε τα κενά που πρέπει να καλυφθούν. • Δημιουργήστε μια τράπεζα πόρων με εκπαιδευτικό υλικό για την υποστήριξη της κινητικότητας των μαθητών με αναπηρίες. • Συνδεθείτε με άλλα ιδρύματα για να μοιραστείτε στρατηγικές κατάρτισης προσωπικού και ορθές πρακτικές.
A10: 4 | C10: Σε ποιο επίπεδο αξιολογεί ο οργανισμός ΕΕΚ τη στήριξη που παρέχει στους φοιτητές κατά τη διάρκεια της κινητικότητας, με σκοπό τη βελτίωση των πρακτικών του; | E10: =IFERROR(INDEX(Βαθμολογίες!$B$2:$B$6, MATCH(ROUND(D10,0), Βαθμολογίες!$A$2:$A$6, 0)), "") -> Δεν υπάρχει | H10: • Διερεύνηση του φάσματος των διαθέσιμων επιλογών κινητικότητας βραχυπρόθεσμης και μακροπρόθεσμης διάρκειας για φοιτητές με ειδικές ανάγκες. • Αξιολόγηση της καταλληλότερης διάρκειας κινητικότητας για κάθε μαθητή ξεχωριστά. • Προσφορά ενός ποικίλου χαρτοφυλακίου κινητικότητας με διαφορετικές διάρκειες, προσαρμόσιμων σε κάθε φοιτητή. | I10: • Επανεξετάστε τακτικά την προσφορά κινητικότητας, ώστε να ανταποκρίνεται καλύτερα στις διαφορετικές ανάγκες των φοιτητών. • Συνεργαστείτε με οργανισμούς-εταίρους για την ανάπτυξη νέων ευέλικτων μορφών κινητικότητας. • Καταγράψτε τα αποτελέσματα των διαφορετικών χρονικών διαρκειών κινητικότητας, ώστε να ενημερώσετε τον μελλοντικό σχεδιασμό των προγραμμάτων.
A11: 5 | C11: Ο οργανισμός σας προσφέρει προγράμματα κινητικότητας τόσο βραχυπρόθεσμης όσο και μακροπρόθεσμης διάρκειας για μαθητές με ειδικές ανάγκες; | E11: =IFERROR(INDEX(Βαθμολογίες!$B$2:$B$6, MATCH(ROUND(D11,0), Βαθμολογίες!$A$2:$A$6, 0)), "") -> Δεν υπάρχει | H11: • Καθορισμός πρωτοκόλλου για προπαρασκευαστικές επισκέψεις ή διαδικτυακές προπαρασκευαστικές συναντήσεις ως μέρος του τυπικού σχεδιασμού. • Ανάθεση της ευθύνης για τις προπαρασκευαστικές επισκέψεις στο συνοδευτικό προσωπικό. • Δημιουργία λίστας ελέγχου με θέματα που πρέπει να διερευνηθούν πριν από την προπαρασκευαστική επίσκεψη. | I11: • Διοργανώστε τακτικές συναντήσεις αξιολόγησης σχετικά με τις προπαρασκευαστικές επισκέψεις, προκειμένου να βελτιώνετε συνεχώς τη διαδικασία. • Ενημερώνετε τα δεδομένα και τις σημειώσεις από τις επισκέψεις και μοιραστείτε τα με το αρμόδιο προσωπικό. • Χρησιμοποιήστε τις προπαρασκευαστικές επισκέψεις για να οικοδομήσετε σχέσεις με τους οργανισμούς υποδοχής και να ενισχύσετε το δίκτυο υποστήριξης.
A12: 6 | C12: Ο οργανισμός σας διοργανώνει προπαρασκευαστικές επισκέψεις ή διαδικτυακές προπαρασκευαστικές συναντήσεις για μαθητές με ειδικές ανάγκες; | E12: =IFERROR(INDEX(Βαθμολογίες!$B$2:$B$6, MATCH(ROUND(D12,0), Βαθμολογίες!$A$2:$A$6, 0)), "") -> Δεν υπάρχει
A13: ΕΝΟΤΗΤΑ 1. Εξατομικευμένες ανάγκες και υποστήριξη - Μέσος όρος | D13: =IFERROR(AVERAGE(D7:D12),"") | E13: =IFERROR(INDEX(Βαθμολογίες!$C$2:$C$6, MATCH(ROUND(D13,0), Βαθμολογίες!$A$2:$A$6, 0)), "") | F13: =IFERROR(INDEX(Βαθμολογίες!$D$2:$D$6, MATCH(ROUND(D13,0), Βαθμολογίες!$A$2:$A$6, 0)), "")
H14: • Αναπτύξτε μια σαφή στρατηγική για τη διεθνοποίηση που να περιλαμβάνει ρητά στόχους κινητικότητας χωρίς αποκλεισμούς. • Βεβαιωθείτε ότι οι ρόλοι και οι ευθύνες για τη διεθνοποίηση είναι σαφώς καθορισμένοι και τεκμηριωμένοι. • Κοινοποιήστε τη στρατηγική σε όλο το αρμόδιο προσωπικό. | I14: • Διατηρήστε τη στρατηγική ενημερωμένη και αναθεωρήστε την ετησίως με τους αρμόδιους ενδιαφερόμενους. • Ευθυγραμμίστε τη στρατηγική διεθνοποίησης με τις ευρύτερες πολιτικές ένταξης του οργανισμού. • Παρακολουθήστε και αναφέρετε την πρόοδο προς την επίτευξη των στόχων της διεθνοποίησης χωρίς αποκλεισμούς.
A15: ΕΝΟΤΗΤΑ 2. Πολιτική, πόροι και χρηματοδότηση | H15: • Δημιουργήστε ένα ετήσιο σχέδιο δράσης για τη διεθνοποίηση που περιλαμβάνει συγκεκριμένους στόχους χωρίς αποκλεισμούς. • Ορίστε σαφή ορόσημα, αρμοδιότητες και χρονοδιαγράμματα για κάθε δράση. • Κοινοποιήστε το σχέδιο σε όλο το αρμόδιο προσωπικό και αξιολογείτε τακτικά την πρόοδο. | I15: • Επανεξετάστε και ενημερώστε το σχέδιο δράσης κάθε χρόνο με τη συμβολή όλων των ενδιαφερόμενων μερών. • Αξιολογήστε την πρόοδο σε σχέση με το σχέδιο και καταγράψτε τα διδάγματα που αποκομίσατε. • Διασφαλίστε ότι οι στόχοι κινητικότητας χωρίς αποκλεισμούς παρακολουθούνται και αναφέρονται.
A16: Πεδίο εφαρμογής: | C16: Να διασφαλιστεί ότι η απαραίτητη οικονομική υποστήριξη και οι πόροι είναι διαθέσιμοι και χρησιμοποιούνται αποτελεσματικά για την υλοποίηση δραστηριοτήτων κινητικότητας χωρίς αποκλεισμούς και με επιτυχία. | H16: • Αναθέστε σαφώς τις ευθύνες για την κινητικότητα χωρίς αποκλεισμούς σε συγκεκριμένα μέλη του προσωπικού. • Διασφαλίστε ότι όλοι οι φοιτητές γνωρίζουν σε ποιον να απευθυνθούν όταν χρειάζονται υποστήριξη. • Καταγράψτε την ανάθεση ρόλων και κάντε αυτές τις πληροφορίες εύκολα προσβάσιμες. | I16: • Επισήμανση της συνεργασίας με βασικούς εταίρους μέσω συμφωνιών συνεργασίας που περιλαμβάνουν στόχους για την κινητικότητα χωρίς αποκλεισμούς. • Τακτική επανεξέταση της αποτελεσματικότητας της ανάθεσης αρμοδιοτήτων και ενημέρωση, όπως απαιτείται. • Συμμετοχή των φοιτητών με αναπηρίες στην αξιολόγηση του κατά πόσον οι δομές υποστήριξης είναι σαφείς και προσβάσιμες.
A17: 1 | C17: Διαθέτει ο οργανισμός σας στρατηγική διεθνοποίησης που περιλαμβάνει στόχους ένταξης; | E17: =IFERROR(INDEX(Βαθμολογίες!$B$2:$B$6, MATCH(ROUND(D17,0), Βαθμολογίες!$A$2:$A$6, 0)), "") -> Δεν υπάρχει | H17: • Δημιουργήστε σαφείς και συνεπείς μεθόδους εργασίας για όλο το προσωπικό που εμπλέκεται στην κινητικότητα χωρίς αποκλεισμούς. • Καθορίστε ποιος κάνει τι και καταγράψτε τους ρόλους και τις ευθύνες για κάθε ομάδα προσωπικού. • Καταγράψτε τις βασικές διαδικασίες σε απλή, προσβάσιμη τεκμηρίωση. | I17: • Βελτιώστε τις υπάρχουσες διαδικασίες συνεργασίας, καθιστώντας τις πιο αποτελεσματικές και διαφανείς. • Συντονίστε στρατηγικά τη χρήση των πόρων μεταξύ των τμημάτων για την υποστήριξη της κινητικότητας χωρίς αποκλεισμούς. • Χρησιμοποιήστε την ανατροφοδότηση και την εμπειρία από προηγούμενες κινητικότητες για να υποστηρίξετε τη συνεχή μάθηση και βελτίωση.
A18: 2 | C18: Ο οργανισμός σας καταρτίζει ετήσιο σχέδιο διεθνοποίησης που περιλαμβάνει τους στόχους ένταξης; | E18: =IFERROR(INDEX(Βαθμολογίες!$B$2:$B$6, MATCH(ROUND(D18,0), Βαθμολογίες!$A$2:$A$6, 0)), "") -> Δεν υπάρχει | H18: • Χαρτογραφήστε τις υπάρχουσες πηγές χρηματοδότησης για την κινητικότητα χωρίς αποκλεισμούς (Erasmus+, εθνικά προγράμματα, ίδιοι πόροι). • Διαθέστε μια σαφή γραμμή προϋπολογισμού για τη στήριξη της κινητικότητας χωρίς αποκλεισμούς. • Εξερευνήστε πρόσθετες ευκαιρίες χρηματοδότησης (χορηγοί, ευρωπαϊκά έργα). | I18: • Ελέγξτε τακτικά τους οικονομικούς πόρους και ευθυγραμμίστε τους στρατηγικά με τους στόχους της κινητικότητας χωρίς αποκλεισμούς. • Διαφοροποιήστε τις πηγές εσόδων για να εξασφαλίσετε τη χρηματοοικονομική βιωσιμότητα της κινητικότητας χωρίς αποκλεισμούς. • Αναπτύξτε σαφείς διαδικασίες για την πρόσβαση και τη διαχείριση της χρηματοδότησης της κινητικότητας.
A19: 3 | C19: Ο οργανισμός σας αναθέτει σαφώς τις ευθύνες για την κινητικότητα χωρίς αποκλεισμούς και διασφαλίζει ότι οι φοιτητές γνωρίζουν σε ποιον να απευθυνθούν για υποστήριξη; | E19: =IFERROR(INDEX(Βαθμολογίες!$B$2:$B$6, MATCH(ROUND(D19,0), Βαθμολογίες!$A$2:$A$6, 0)), "") -> Δεν υπάρχει
A20: 4 | C20: Συνεργάζεται αποτελεσματικά όλο το αρμόδιο προσωπικό για την οργάνωση προγραμμάτων κινητικότητας χωρίς αποκλεισμούς; | E20: =IFERROR(INDEX(Βαθμολογίες!$B$2:$B$6, MATCH(ROUND(D20,0), Βαθμολογίες!$A$2:$A$6, 0)), "") -> Δεν υπάρχει
A21: 5 | C21: Ο οργανισμός σας εξασφαλίζει επαρκείς οικονομικούς πόρους για δραστηριότητες διεθνοποίησης χωρίς αποκλεισμούς; | E21: =IFERROR(INDEX(Βαθμολογίες!$B$2:$B$6, MATCH(ROUND(D21,0), Βαθμολογίες!$A$2:$A$6, 0)), "") -> Δεν υπάρχει | H21: • Βεβαιωθείτε ότι οι φοιτητές με αναπηρίες τυγχάνουν ίσης μεταχείρισης και δεν αποκλείονται από τα προγράμματα κινητικότητας. • Εξετάστε πώς μπορείτε να κάνετε το πρόγραμμα κινητικότητας πιο προσβάσιμο σε όλους τους φοιτητές. • Ενημερώστε όλο το προσωπικό σχετικά με τις υποχρεώσεις ίσης μεταχείρισης. | I21: • Εισαγάγετε ένα τυποποιημένο κατάλογο ελέγχου πριν από κάθε κινητικότητα για να επαληθεύετε την ίση μεταχείριση στην επιλογή, τη συμμετοχή και την αξιολόγηση. • Ελέγχετε τακτικά τα ποσοστά συμμετοχής των φοιτητών με αναπηρίες στα προγράμματα κινητικότητας. • Ενημερώνετε ετησίως τις πολιτικές ίσης μεταχείρισης με βάση τα ευρήματα.
A22: ΕΝΟΤΗΤΑ 2. Πολιτική, πόροι και χρηματοδότηση - Μέτρια | D22: =IFERROR(AVERAGE(D17:D21),"") | E22: =IFERROR(INDEX(Βαθμολογίες!$C$2:$C$6, MATCH(ROUND(D22,0), Βαθμολογίες!$A$2:$A$6, 0)), "") | F22: =IFERROR(INDEX(Βαθμολογίες!$D$2:$D$6, MATCH(ROUND(D22,0), Βαθμολογίες!$A$2:$A$6, 0)), "") | H22: • Ενημερώστε όλο το προσωπικό σχετικά με τη Σύμβαση για τα Δικαιώματα των Ατόμων με Αναπηρία (CRPD) και τον Χάρτη των Θεμελιωδών Δικαιωμάτων της ΕΕ. • Ενσωματώστε την ευαισθητοποίηση σχετικά με το νομικό πλαίσιο στην εισαγωγή και την κατάρτιση του προσωπικού. • Ελέγξτε κατά πόσον οι δραστηριότητες κινητικότητας συμμορφώνονται με τους σχετικούς εθνικούς κανονισμούς. | I22: • Οργανώστε μια υποχρεωτική εκπαιδευτική συνεδρία (μία φορά ανά κύκλο κινητικότητας) όπου το προσωπικό εφαρμόζει βασικά άρθρα της CRPD σε πραγματικά σενάρια. • Καθορίστε μια διαδικασία για την τακτική επανεξέταση της συμμόρφωσης με τα επικαιροποιημένα νομικά πλαίσια. • Τεκμηριώστε τον τρόπο με τον οποίο οι δραστηριότητες κινητικότητας πληρούν κάθε σχετική νομική απαίτηση.
H23: • Δημιουργήστε μια επίσημη ασφαλιστική πολιτική που να εξασφαλίζει ότι κάθε φοιτητής καλύπτεται πριν από το ταξίδι. • Ελέγξτε ότι η ασφάλιση καλύπτει τις ανάγκες που σχετίζονται με την αναπηρία (ιατρικός εξοπλισμός, υπηρεσίες βοήθειας). • Βεβαιωθείτε ότι οι οργανισμοί υποδοχής καλύπτονται επίσης, όπου ισχύει. | I23: • Ελέγξτε ξεχωριστά το ασφαλιστήριο συμβόλαιο κάθε συμμετέχοντα για να επιβεβαιώσετε την κάλυψη που σχετίζεται με την αναπηρία. • Καθιερώστε έναν τυποποιημένο κατάλογο ελέγχου για την ασφάλιση πριν από την αναχώρηση. • Ελέγχετε το ασφαλιστήριο συμβόλαιο ετησίως για να βεβαιωθείτε ότι παραμένει επαρκές.
A24: ΕΝΟΤΗΤΑ 3. Νομικές και ηθικές πτυχές | H24: • Διαμορφώστε μια σαφή πολιτική σύμφωνη με τον ΓΚΠΔ για την προστασία ευαίσθητων προσωπικών δεδομένων, όπως ιατρικές πληροφορίες. • Μοιραστείτε ευαίσθητα δεδομένα μόνο με τη ρητή συγκατάθεση του φοιτητή. • Εκπαιδεύστε το προσωπικό σχετικά με τις υποχρεώσεις προστασίας δεδομένων που σχετίζονται με την κινητικότητα. | I24: • Διεξάγετε περιοδικούς ελέγχους προστασίας δεδομένων για να διασφαλίσετε τη συνεχή συμμόρφωση με τον ΓΚΠΔ. • Αναπτύξτε σαφή πρωτόκολλα επικοινωνίας, ώστε οι φοιτητές να γνωρίζουν πώς χρησιμοποιούνται και προστατεύονται τα δεδομένα τους. • Ελέγχετε τακτικά τα έντυπα συγκατάθεσης και τις συμφωνίες κοινοποίησης δεδομένων.
A25: Πεδίο εφαρμογής: | C25: Να διασφαλιστεί ότι όλες οι δραστηριότητες κινητικότητας ακολουθούν τις νομικές απαιτήσεις και σέβονται τις ηθικές αρχές, προστατεύοντας τα δικαιώματα, την ασφάλεια και την ευημερία όλων των συμμετεχόντων. | H25: • Προσδιορίστε το συνοδευτικό προσωπικό για τις δραστηριότητες κινητικότητας και παρέχετε του στοχευμένη εκπαίδευση για την υποστήριξη ατόμων με αναπηρία. • Καθορίστε σαφείς αρμοδιότητες για το συνοδευτικό προσωπικό όσον αφορά την υποστήριξη των φοιτητών. • Διασφαλίστε ότι η εκπαίδευση καλύπτει την ευαισθητοποίηση σχετικά με την αναπηρία, την επικοινωνία και τα πρωτόκολλα έκτακτης ανάγκης. | I25: • Καθορίστε ένα επίσημο και επαναλαμβανόμενο πρόγραμμα κατάρτισης για το συνοδευτικό προσωπικό. • Αξιολογήστε την ποιότητα της υποστήριξης που παρέχεται από το συνοδευτικό προσωπικό μετά από κάθε κινητικότητα. • Χρησιμοποιήστε τα ευρήματα της αξιολόγησης για τη συνεχή βελτίωση του προγράμματος κατάρτισης.
A26: 1 | C26: Ο οργανισμός σας διασφαλίζει ότι οι φοιτητές με αναπηρίες τυγχάνουν ίσης μεταχείρισης και δεν αποκλείονται από την κινητικότητα; | E26: =IFERROR(INDEX(Βαθμολογίες!$B$2:$B$6, MATCH(ROUND(D26,0), Βαθμολογίες!$A$2:$A$6, 0)), "") -> Δεν υπάρχει | H26: • Συζητήστε με τον οργανισμό υποδοχής ότι δεν θα γίνει ανεκτή η διάκριση εις βάρος του φοιτητή. • Ενημερώστε τον φοιτητή σχετικά με τον τρόπο πρόσβασης σε βοήθεια σε περίπτωση που αντιμετωπίσει διάκριση κατά τη διάρκεια της κινητικότητας. • Ερευνήστε πιθανούς κινδύνους στιγματισμού ή διάκρισης στη χώρα υποδοχής πριν από την αναχώρηση. | I26: • Διεξάγετε μια εκτίμηση κινδύνου πριν από την κινητικότητα σχετικά με τη διάκριση και το στίγμα στον προορισμό. • Αναπτύξτε ένα σαφές πρωτόκολλο αντίδρασης για περιστατικά διάκρισης κατά τη διάρκεια της κινητικότητας. • Δημιουργήστε σχέσεις με τοπικούς οργανισμούς στις χώρες υποδοχής που μπορούν να υποστηρίξουν τους φοιτητές.
A27: 2 | C27: Ο οργανισμός σας διασφαλίζει την ευαισθητοποίηση και τη συμμόρφωση με τα βασικά νομικά πλαίσια για τα δικαιώματα των ατόμων με αναπηρία σε όλες τις δραστηριότητες κινητικότητας; (Τα βασικά πλαίσια περιλαμβάνουν: τη Σύμβαση των Ηνωμένων Εθνών για τα Δικαιώματα των Ατόμων με Αναπηρία (CRPD), τον Χάρτη των Θεμελιωδών Δικαιωμάτων της ΕΕ και τους σχετικούς εθνικούς κανονισμούς.) | E27: =IFERROR(INDEX(Βαθμολογίες!$B$2:$B$6, MATCH(ROUND(D27,0), Βαθμολογίες!$A$2:$A$6, 0)), "") -> Δεν υπάρχει
A28: 3 | C28: Διαθέτει ο οργανισμός σας επίσημη ασφαλιστική πολιτική που καλύπτει όλους τους φοιτητές κατά τη διάρκεια της κινητικότητας; | E28: =IFERROR(INDEX(Βαθμολογίες!$B$2:$B$6, MATCH(ROUND(D28,0), Βαθμολογίες!$A$2:$A$6, 0)), "") -> Δεν υπάρχει
A29: 4 | C29: Ο οργανισμός σας προστατεύει τα ευαίσθητα προσωπικά δεδομένα (π.χ. ιατρικές πληροφορίες) σύμφωνα με τον ΓΚΠΔ; | E29: =IFERROR(INDEX(Βαθμολογίες!$B$2:$B$6, MATCH(ROUND(D29,0), Βαθμολογίες!$A$2:$A$6, 0)), "") -> Δεν υπάρχει | H29: • Παρέχετε βασικές πολιτισμικές πληροφορίες σχετικά με τα τοπικά έθιμα, τις παραδόσεις, την κοινωνική εθιμοτυπία, τη θρησκεία και τις διατροφικές συνήθειες πριν από την αναχώρηση. • Εξηγήστε πώς οι διαφορετικές κουλτούρες αντιλαμβάνονται την αναπηρία. • Δημιουργήστε ευκαιρίες για τους φοιτητές να μάθουν και να μοιραστούν εμπειρίες σχετικά με τις πολιτισμικές διαφορές. | I29: • Προσφέρετε δομημένες συνεδρίες κατάρτισης πριν από την αναχώρηση, εστιασμένες στις πολιτισμικές διαφορές και την ευαισθητοποίηση σχετικά με την αναπηρία. • Κατά τη διάρκεια της κινητικότητας, παρέχετε πρόσβαση σε μέντορες που είναι εξοικειωμένοι με την τοπική κουλτούρα. • Ενσωματώστε την πολιτισμική ευαισθησία στο πρόγραμμα σπουδών και προσκαλέστε ομιλητές από διαφορετικά υπόβαθρα.
A30: 5 | C30: Ο οργανισμός σας διασφαλίζει ότι το συνοδευτικό προσωπικό λαμβάνει εκπαίδευση ώστε να παρέχει την κατάλληλη υποστήριξη κατά τη διάρκεια της κινητικότητας; | E30: =IFERROR(INDEX(Βαθμολογίες!$B$2:$B$6, MATCH(ROUND(D30,0), Βαθμολογίες!$A$2:$A$6, 0)), "") -> Δεν υπάρχει | H30: • Πραγματοποιήστε συνέντευξη με τον φοιτητή για να αξιολογήσετε τις γλωσσικές του δεξιότητες και να εντοπίσετε κενά. • Διδάξτε βασικές φράσεις και συγκεκριμένη ορολογία σχετική με το πλαίσιο της κινητικότητας. • Παρέχετε βασικό ενημερωτικό υλικό σχετικά με τις γλωσσικές ανάγκες και τις πολιτισμικές προσδοκίες. | I30: • Αξιολογήστε τις γλωσσικές δεξιότητες των φοιτητών χρησιμοποιώντας την κλίμακα CEFR (A1–C2). • Προσφέρετε ένα στοχευμένο γλωσσικό μάθημα για να προετοιμάσετε τους φοιτητές για βασική επικοινωνία (A1–A2). • Παρέχετε πρόσθετους γλωσσικούς πόρους προσαρμοσμένους σε φοιτητές με αναπηρίες.
A31: 6 | C31: Ο οργανισμός σας εντοπίζει και αντιμετωπίζει πιθανά φαινόμενα στιγματισμού ή διακρίσεων στη χώρα υποδοχής; | E31: =IFERROR(INDEX(Βαθμολογίες!$B$2:$B$6, MATCH(ROUND(D31,0), Βαθμολογίες!$A$2:$A$6, 0)), "") -> Δεν υπάρχει | H31: • Παρέχετε δομημένες ευκαιρίες στους συμμετέχοντες να δώσουν ανατροφοδότηση σχετικά με την πολιτισμική τους εμπειρία μετά την κινητικότητα. • Αναλύστε την ανατροφοδότηση που συλλέξατε για να εντοπίσετε τομείς που χρήζουν βελτίωσης. • Μοιραστείτε τα ευρήματα με το προσωπικό και χρησιμοποιήστε τα για να ενημερώσετε το υλικό πολιτισμικής προετοιμασίας. | I31: • Καθοδηγήστε τους συμμετέχοντες να δίνουν συγκεκριμένη, εφαρμόσιμη ανατροφοδότηση σχετικά με την πολιτισμική ευαισθησία ή αδιαφορία. • Εξασφαλίστε την ανωνυμία και την εμπιστευτικότητα στη διαδικασία ανατροφοδότησης, όπου είναι απαραίτητο. • Χρησιμοποιήστε την ανατροφοδότηση συστηματικά για τη βελτίωση μελλοντικών προγραμμάτων πολιτισμικής προετοιμασίας.
A32: ΕΝΟΤΗΤΑ 3. Νομικές και ηθικές πτυχές - Μέτρια | D32: =IFERROR(AVERAGE(D26:D31),"") | E32: =IFERROR(INDEX(Βαθμολογίες!$C$2:$C$6, MATCH(ROUND(D32,0), Βαθμολογίες!$A$2:$A$6, 0)), "") | F32: =IFERROR(INDEX(Βαθμολογίες!$D$2:$D$6, MATCH(ROUND(D32,0), Βαθμολογίες!$A$2:$A$6, 0)), "")
A34: ΕΝΟΤΗΤΑ 4. Πολιτισμική ευαισθησία και ευαισθητοποίηση | H34: • Δημιουργήστε απλούς οδηγούς βήμα προς βήμα χρησιμοποιώντας απλή γλώσσα για τις διαδικασίες έκδοσης βίζας, χρηματοδότησης και στέγασης. • Προσφέρετε μια βασική ενημερωτική συνάντηση για φοιτητές που δεν έχουν εμπειρία με τις διαδικασίες κινητικότητας. • Κάντε τις πληροφορίες επικοινωνίας του διοικητικού προσωπικού εύκολα προσβάσιμες στον ιστότοπο. | I34: • Δημιουργήστε μια διαδικτυακή πύλη αυτοεξυπηρέτησης με ενημερωμένες πληροφορίες σχετικά με τη χρηματοδότηση, τη στέγαση και τη βίζα. • Προσφέρετε προσωπική καθοδήγηση σε φοιτητές που χρειάζονται επιπλέον βοήθεια. • Χρησιμοποιήστε σύντομες έρευνες ανατροφοδότησης για να βελτιώσετε τη σαφήνεια και την εμπειρία του χρήστη.
A35: Πεδίο εφαρμογής: | C35: Να διασφαλιστεί ότι όλοι οι συμμετέχοντες σε προγράμματα κινητικότητας είναι προετοιμασμένοι για τις πολιτισμικές διαφορές και ότι λαμβάνουν υποστήριξη ώστε να κινούνται σε διαφορετικά περιβάλλοντα με σεβασμό και αυτοπεποίθηση. | H35: • Εύρεση φοιτητών ή μεντόρων που επιθυμούν να συμμετάσχουν σε πρόγραμμα αλληλοϋποστήριξης. • Παροχή εκπαίδευσης στους υποστηρικτές ώστε να κατανοήσουν τις πρακτικές ένταξης, την εμπιστευτικότητα, τα καθήκοντά τους και τα όρια. • Έναρξη με ένα μικρό και σαφές σύστημα αντιστοίχισης ομοτίμων για φοιτητές με αναπηρίες που συμμετέχουν σε προγράμματα κινητικότητας. | I35: • Εκπαιδεύστε τους ομότιμους υποστηρικτές στην επικοινωνία χωρίς αποκλεισμούς, την εμπιστευτικότητα και την πολιτισμική ευαισθητοποίηση. • Αναπτύξτε το δίκτυο ομότιμης υποστήριξης ώστε να είναι διαθέσιμο για όλα τα προγράμματα κινητικότητας. • Εντάξτε την ομότιμη υποστήριξη ως κανονικό μέρος των διαδικασιών κινητικότητας (π.χ. κατά τη διάρκεια της προσαρμογής).
A36: 1 | C36: Ο οργανισμός σας παρέχει πολιτιστικές πληροφορίες σχετικά με τη χώρα προορισμού στους συμμετέχοντες στην κινητικότητα; | E36: =IFERROR(INDEX(Βαθμολογίες!$B$2:$B$6, MATCH(ROUND(D36,0), Βαθμολογίες!$A$2:$A$6, 0)), "") -> Δεν υπάρχει | H36: • Χρησιμοποιήστε πραγματικές, ποικίλες ιστορίες ή μαρτυρίες σε φυλλάδια και στον ιστότοπο. • Ελέγξτε τα επικοινωνιακά υλικά για να βεβαιωθείτε ότι είναι σαφή και χρησιμοποιούν απλή γλώσσα. • Παρέχετε βασικές πληροφορίες στους επιβλέποντες και τους φοιτητές μέσω μιας εύκολα προσβάσιμης σελίδας πληροφοριών για την κινητικότητα. | I36: • Χρησιμοποιήστε ποικίλα πρότυπα αναφοράς σε βίντεο, φυλλάδια και διαδικτυακό υλικό (αναπηρία, φύλο, πολιτισμική ποικιλομορφία). • Βεβαιωθείτε ότι όλη η επικοινωνία ακολουθεί τα πρότυπα προσβασιμότητας (WCAG). • Προσφέρετε ενημερωτικές συνεδρίες για την κινητικότητα χωρίς αποκλεισμούς σε διαφορετικές μορφές (διαδικτυακά, δια ζώσης, οπτικές περιλήψεις, βίντεο με υπότιτλους).
A37: 2 | C37: Ο οργανισμός σας αξιολογεί τις γλωσσικές δεξιότητες των συμμετεχόντων και προσφέρει γλωσσική προετοιμασία πριν από την κινητικότητα; | E37: =IFERROR(INDEX(Βαθμολογίες!$B$2:$B$6, MATCH(ROUND(D37,0), Βαθμολογίες!$A$2:$A$6, 0)), "") -> Δεν υπάρχει | H37: • Ενημερώστε με σαφήνεια για τις επιλογές κινητικότητας και τη διαθέσιμη υποστήριξη μέσω τουλάχιστον ενός προσβάσιμου καναλιού. • Βεβαιωθείτε ότι τόσο οι επιβλέποντες όσο και οι φοιτητές λαμβάνουν έγκαιρα πληροφορίες σχετικά με την υποστήριξη κινητικότητας. • Χρησιμοποιήστε απλή γλώσσα και μορφές χωρίς αποκλεισμούς σε όλα τα κανάλια επικοινωνίας. | I37: • Βεβαιωθείτε ότι όλα τα κανάλια επικοινωνίας είναι βελτιστοποιημένα για διαφορετικές ανάγκες υποστήριξης (μεγάλα γράμματα, μεταφράσεις, λογισμικό ομιλίας). • Διοργανώστε ενημερωτικές συνεδρίες για την κινητικότητα χωρίς αποκλεισμούς σε πολλαπλές προσβάσιμες μορφές. • Προσαρμόστε όλες τις συναντήσεις και την παροχή πληροφοριών σε φοιτητές με διαφορετικές ανάγκες υποστήριξης.
A38: 3 | C38: Ο οργανισμός σας ζητά ανατροφοδότηση από τους συμμετέχοντες σχετικά με τις πολιτισμικές εμπειρίες τους μετά την κινητικότητα; | E38: =IFERROR(INDEX(Βαθμολογίες!$B$2:$B$6, MATCH(ROUND(D38,0), Βαθμολογίες!$A$2:$A$6, 0)), "") -> Δεν υπάρχει
A39: ΕΝΟΤΗΤΑ 4. Πολιτισμική ευαισθησία και ευαισθητοποίηση - Μέτρια | D39: =IFERROR(AVERAGE(D36:D38),"") | E39: =IFERROR(INDEX(Βαθμολογίες!$C$2:$C$6, MATCH(ROUND(D39,0), Βαθμολογίες!$A$2:$A$6, 0)), "") | F39: =IFERROR(INDEX(Βαθμολογίες!$D$2:$D$6, MATCH(ROUND(D39,0), Βαθμολογίες!$A$2:$A$6, 0)), "")
H40: • Μοιραστείτε πληροφορίες σχετικά με τις ευκαιρίες κινητικότητας μέσω τουλάχιστον ενός προσβάσιμου καναλιού (ενημερωτικό δελτίο, ιστότοπος). • Οργανώστε τουλάχιστον μία εκδήλωση ή συνεδρία όπου οι φοιτητές με αναπηρίες μπορούν να υποβάλουν ερωτήσεις σχετικά με τη μετάβαση στο εξωτερικό. • Βεβαιωθείτε ότι οι συνεδρίες πραγματοποιούνται σε προσβάσιμους χώρους και μορφές. | I40: • Ανάπτυξη μιας εξατομικευμένης στρατηγικής επικοινωνίας που απευθύνεται ειδικά σε φοιτητές με αναπηρίες. • Δημιουργία προσβάσιμου υλικού (οπτικού, ακουστικού, ψηφιακού) που να αναδεικνύει τις ευκαιρίες κινητικότητας και τη διαθέσιμη υποστήριξη. • Ενσωμάτωση των πληροφοριών για την κινητικότητα χωρίς αποκλεισμούς ως τυπικό μέρος όλων των επικοινωνιών προς τους φοιτητές.
A41: ΕΝΟΤΗΤΑ 5. Ενταξιακή επικοινωνία και ψηφιακή προσβασιμότητα | H41: • Επικοινωνήστε με τους φορείς υποδοχής, όταν είναι απαραίτητο, για να συζητήσετε τις προσαρμογές του χώρου εργασίας για τον φοιτητή. • Διατηρήστε έναν κατάλογο φορέων υποδοχής που διαθέτουν τον κατάλληλο εξοπλισμό για την υποστήριξη φοιτητών με αναπηρίες. • Συζητήστε με τους φορείς υποδοχής πώς μπορεί να οργανωθεί η εποπτεία ώστε να ανταποκρίνεται στις ανάγκες του φοιτητή. | I41: • Παρέχετε στους οργανισμούς υποδοχής πρακτικό υλικό για τη δημιουργία ενός χώρου εργασίας χωρίς αποκλεισμούς (οδηγούς, παρουσιάσεις). • Οργανώστε εκπαιδευτικές συνεδρίες για τους οργανισμούς υποδοχής σχετικά με την υποστήριξη των ασκούμενων με αναπηρίες. • Συνεργαστείτε ενεργά με τους οργανισμούς υποδοχής για την ανάπτυξη προγραμμάτων πρακτικής άσκησης χωρίς αποκλεισμούς.
A42: Πεδίο εφαρμογής: | C42: Να διασφαλιστεί ότι όλες οι πληροφορίες και η επικοινωνία σχετικά με την κινητικότητα είναι προσβάσιμες, σαφείς και χωρίς αποκλεισμούς για τους φοιτητές με αναπηρίες, και ότι το ψηφιακό υλικό πληροί τα πρότυπα προσβασιμότητας. | H42: • Διασφάλιση ότι το προσωπικό διαθέτει βασικές γνώσεις σχετικά με τις προκλήσεις που αντιμετωπίζουν οι φοιτητές με αναπηρίες όταν ταξιδεύουν στο εξωτερικό. • Παροχή περιστασιακών ενημερωτικών συνεδριών σχετικά με τη σημασία της ένταξης στη διεθνή κινητικότητα. • Διαβούλευση με εξωτερικούς εμπειρογνώμονες για συμβουλές σχετικά με την υποστήριξη φοιτητών με αναπηρίες. | I42: • Να αναπτύξει έναν δομημένο οδηγό για εκπαιδευτικούς και βοηθητικό προσωπικό σχετικά με τις ιδιαίτερες ανάγκες των φοιτητών με αναπηρίες κατά τη διάρκεια της κινητικότητας. • Να παρέχει πρόσβαση σε συνεχή επαγγελματική ανάπτυξη (εργαστήρια, σεμινάρια) σχετικά με την ένταξη και τη διεθνή κινητικότητα. • Να ορίσει έναν ειδικό υπεύθυνο επικοινωνίας για φοιτητές με αναπηρίες, ο οποίος θα συνδέεται με το γραφείο διεθνούς κινητικότητας.
A43: 1 | C43: Ο οργανισμός ΕΕΚ σας παρέχει σαφή και απλή διοικητική υποστήριξη στους μαθητές που συμμετέχουν σε προγράμματα κινητικότητας (βίζα, χρηματοδότηση, στέγαση κ.λπ.)? | E43: =IFERROR(INDEX(Βαθμολογίες!$B$2:$B$6, MATCH(ROUND(D43,0), Βαθμολογίες!$A$2:$A$6, 0)), "") -> Δεν υπάρχει | H43: • Δημιουργία απλών μηχανισμών για τη συλλογή ανατροφοδότησης από φοιτητές με αναπηρίες μετά από κάθε κινητικότητα. • Ανάλυση της ανατροφοδότησης και κοινοποίηση των ευρημάτων στο αρμόδιο προσωπικό. • Χρήση της ανατροφοδότησης για την πραγματοποίηση τουλάχιστον μίας συγκεκριμένης βελτίωσης σε κάθε επόμενο πρόγραμμα κινητικότητας. | I43: • Ανάπτυξη ενός συστηματικού πλαισίου αξιολόγησης για τις πρακτικές κινητικότητας χωρίς αποκλεισμούς, που θα καλύπτει τις προοπτικές των φοιτητών, του προσωπικού και του οργανισμού υποδοχής. • Παρακολούθηση βασικών δεικτών με την πάροδο του χρόνου και ετήσια αναφορά της προόδου. • Χρήση των ευρημάτων της αξιολόγησης για την προώθηση στρατηγικών βελτιώσεων στην κινητικότητα χωρίς αποκλεισμούς.
A44: 2 | C44: Σε ποιο βαθμό ο οργανισμός ΕΕΚ σας χρησιμοποιεί προγράμματα αλληλοϋποστήριξης για να βοηθήσει τους φοιτητές με αναπηρίες; | E44: =IFERROR(INDEX(Βαθμολογίες!$B$2:$B$6, MATCH(ROUND(D44,0), Βαθμολογίες!$A$2:$A$6, 0)), "") -> Δεν υπάρχει
A45: 3 | C45: Σε ποιο βαθμό ο οργανισμός σας χρησιμοποιεί ποικίλα πρότυπα αναφοράς στα επικοινωνιακά υλικά για να ενθαρρύνει τη συμμετοχή των φοιτητών σε προγράμματα κινητικότητας; | E45: =IFERROR(INDEX(Βαθμολογίες!$B$2:$B$6, MATCH(ROUND(D45,0), Βαθμολογίες!$A$2:$A$6, 0)), "") -> Δεν υπάρχει
A46: 4 | C46: Σε ποιο βαθμό ο οργανισμός ΕΕΚ σας επικοινωνεί αποτελεσματικά τις επιλογές κινητικότητας και τη σχετική υποστήριξη στους φοιτητές και τους επόπτες μέσω προσβάσιμων και χωρίς αποκλεισμούς καναλιών (ιστοσελίδες, φυλλάδια, συναντήσεις); | E46: =IFERROR(INDEX(Βαθμολογίες!$B$2:$B$6, MATCH(ROUND(D46,0), Βαθμολογίες!$A$2:$A$6, 0)), "") -> Δεν υπάρχει
A47: 5 | C47: Σε ποιο βαθμό ο οργανισμός σας διασφαλίζει ότι το ψηφιακό υλικό που σχετίζεται με την κινητικότητα (ιστοσελίδες, έντυπα, οδηγοί) πληροί τα πρότυπα προσβασιμότητας (π.χ. συμβατότητα με προγράμματα ανάγνωσης οθόνης, μορφές εύκολης ανάγνωσης, επαρκής χρωματική αντίθεση) για φοιτητές με αναπηρίες; | E47: =IFERROR(INDEX(Βαθμολογίες!$B$2:$B$6, MATCH(ROUND(D47,0), Βαθμολογίες!$A$2:$A$6, 0)), "") -> Δεν υπάρχει
A48: ΕΝΟΤΗΤΑ 5. Ενταξιακή επικοινωνία και ψηφιακή προσβασιμότητα - Μέσος όρος | D48: =IFERROR(AVERAGE(D43:D47),"") | E48: =IFERROR(INDEX(Βαθμολογίες!$C$2:$C$6, MATCH(ROUND(D48,0), Βαθμολογίες!$A$2:$A$6, 0)), "") | F48: =IFERROR(INDEX(Βαθμολογίες!$D$2:$D$6, MATCH(ROUND(D48,0), Βαθμολογίες!$A$2:$A$6, 0)), "")
A50: ΕΝΟΤΗΤΑ 6. Ευαισθητοποίηση και προώθηση
A51: Πεδίο εφαρμογής: | C51: Να διασφαλιστεί ότι οι φοιτητές με αναπηρίες ενημερώνονται ενεργά και ενθαρρύνονται να συμμετέχουν σε ευκαιρίες κινητικότητας.
A52: 1 | C52: Ο οργανισμός σας υλοποιεί εκστρατείες, εργαστήρια ή ενημερωτικές συνεδρίες για την προώθηση της κινητικότητας των φοιτητών με αναπηρίες; | E52: =IFERROR(INDEX(Βαθμολογίες!$B$2:$B$6, MATCH(ROUND(D52,0), Βαθμολογίες!$A$2:$A$6, 0)), "") -> Δεν υπάρχει
A53: 2 | C53: Ο οργανισμός σας προωθεί ενεργά την προσβασιμότητα και την ένταξη κατά τη συνεργασία του με τους οργανισμούς υποδοχής; | E53: =IFERROR(INDEX(Βαθμολογίες!$B$2:$B$6, MATCH(ROUND(D53,0), Βαθμολογίες!$A$2:$A$6, 0)), "") -> Δεν υπάρχει
A54: 3 | C54: Ο οργανισμός σας συλλέγει και χρησιμοποιεί τα σχόλια των φοιτητών με αναπηρίες για τη βελτίωση των προγραμμάτων κινητικότητας; | E54: =IFERROR(INDEX(Βαθμολογίες!$B$2:$B$6, MATCH(ROUND(D54,0), Βαθμολογίες!$A$2:$A$6, 0)), "") -> Δεν υπάρχει
A55: 4 | C55: Ο οργανισμός σας παρακολουθεί και αξιολογεί την αποτελεσματικότητα των πρακτικών του για την κινητικότητα χωρίς αποκλεισμούς; | E55: =IFERROR(INDEX(Βαθμολογίες!$B$2:$B$6, MATCH(ROUND(D55,0), Βαθμολογίες!$A$2:$A$6, 0)), "") -> Δεν υπάρχει
A56: ΕΝΟΤΗΤΑ 6. Ευαισθητοποίηση και προώθηση - Μέτρια | D56: =IFERROR(AVERAGE(D51:D55),"") | E56: =IFERROR(INDEX(Βαθμολογίες!$C$2:$C$6, MATCH(ROUND(D56,0), Βαθμολογίες!$A$2:$A$6, 0)), "") | F56: =IFERROR(INDEX(Βαθμολογίες!$D$2:$D$6, MATCH(ROUND(D56,0), Βαθμολογίες!$A$2:$A$6, 0)), "")

Sheet Πίνακας αποτελεσμάτων
A1: IMVET — Εργαλείο αυτοαξιολόγησης: Οργανωτική ετοιμότητα για την κινητικότητα των φοιτητών χωρίς αποκλεισμούς
A2: Όνομα οργανισμού / εκπαιδευτικού:
A3: Ημερομηνία αξιολόγησης:
A4: ΠΩΣ ΝΑ ΧΡΗΣΙΜΟΠΟΙΗΣΕΤΕ ΑΥΤΟ ΤΟ ΕΡΓΑΛΕΙΟ: Μεταβείτε στο φύλλο «Αξιολόγηση Ενότητας» και εισάγετε μια βαθμολογία από 1 έως 4 για κάθε ερώτηση χρησιμοποιώντας το αναπτυσσόμενο μενού στη στήλη Δ. Οι βαθμολογίες υπολογίζουν αυτόματα τους μέσους όρους που εμφανίζονται παρακάτω. Χρησιμοποιήστε τη στήλη «Σχόλια» (G) στο φύλλο «Ενότητες» για σημειώσεις. Κλίμακα: 0 = Δεν εφαρμόζεται | 1 = Περιορισμένα στοιχεία | 2 = Βασικό επίπεδο | 3 = Καλά ανεπτυγμένο / δομημένο | 4 = Εξαιρετικό / πλήρως ενσωματωμένο
A6: Ενότητα | B6: Μέση βαθμολογία | C6: Επίπεδο | D6: Επεξήγηση
A7: ΕΝΟΤΗΤΑ 1. Εξατομικευμένες ανάγκες και υποστήριξη | B7: ='Αξιολόγηση ενοτήτων'!$D$13 | C7: ='Αξιολόγηση ενοτήτων'!E13 | D7: ='Αξιολόγηση ενοτήτων'!F13
A8: ΕΝΟΤΗΤΑ 2. Πολιτική, πόροι και χρηματοδότηση | B8: ='Αξιολόγηση ενοτήτων'!$D$22 | C8: ='Αξιολόγηση ενοτήτων'!E22 | D8: ='Αξιολόγηση ενοτήτων'!F22
A9: ΕΝΟΤΗΤΑ 3. Νομικές και ηθικές πτυχές | B9: ='Αξιολόγηση ενοτήτων'!$D$32 | C9: ='Αξιολόγηση ενοτήτων'!E32 | D9: ='Αξιολόγηση ενοτήτων'!F32
A10: ΕΝΟΤΗΤΑ 4. Πολιτισμική ευαισθησία και ευαισθητοποίηση | B10: ='Αξιολόγηση ενοτήτων'!$D$39 | C10: ='Αξιολόγηση ενοτήτων'!E39 | D10: ='Αξιολόγηση ενοτήτων'!F39
A11: ΕΝΟΤΗΤΑ 5. Ενταξιακή επικοινωνία και ψηφιακή προσβασιμότητα | B11: ='Αξιολόγηση ενοτήτων'!$D$48 | C11: ='Αξιολόγηση ενοτήτων'!E48 | D11: ='Αξιολόγηση ενοτήτων'!F48
A12: ΕΝΟΤΗΤΑ 6. Ευαισθητοποίηση και προάσπιση | B12: ='Αξιολόγηση ενοτήτων'!$D$56 | C12: ='Αξιολόγηση ενοτήτων'!E56 | D12: ='Αξιολόγηση ενοτήτων'!F56
A13: ΣΥΝΟΛΙΚΟΣ ΜΕΣΟΣ ΟΡΟΣ | B13: =IFERROR(AVERAGE(B7:B12),"") | C13: =IFERROR(INDEX(Βαθμολογίες!$C$3:$C$6, MATCH(ROUND(B13,0), Βαθμολογίες!$A$3:$A$6, 0)), "") | D13: =IFERROR(INDEX(Βαθμολογίες!$D$3:$D$6, MATCH(ROUND(B13,0), Βαθμολογίες!$A$3:$A$6, 0)), "")

Sheet Συστάσεις
A1: IMVET — Εξατομικευμένες συστάσεις με βάση τις βαθμολογίες αξιολόγησης
A2: Οι συστάσεις επιλέγονται αυτόματα με βάση τη βαθμολογία σας: Βαθμολογία 1–2 → Συστάσεις στοιχειώδους/βασικού επιπέδου | Βαθμολογία 3–4 → Συστάσεις καλού έως πολύ καλού επιπέδου | Οι βαθμολογίες ενημερώνονται αυτόματα όταν αλλάζετε τις τιμές στο φύλλο αξιολόγησης των ενοτήτων.
A3: ΟΔΗΓΟΣ ΧΡΩΜΑΤΩΝ: ⚫ Γκρι = Βαθμολογία 0 (Δεν υπάρχει) → δεν έχει ξεκινήσει ακόμα 🔴 Κόκκινο = Βαθμολογία 1–2 (Περιορισμένο/Βασικό) → απαιτείται δράση 🟢 Πράσινο = Βαθμολογία 3–4 (Καλά Αναπτυγμένο έως Εξαιρετικό) → συνεχίστε να βελτιώνεστε
A4: Ενότητα | B4: Ερώτηση # | C4: Ερώτηση | D4: Βαθμολογία | E4: Επίπεδο | F4: Συστάσεις για το επίπεδό σας | G4: Πρόσθετο υλικό
A6: Ενότητα 1 — Εξατομικευμένες ανάγκες και υποστήριξη
A7: M1 | B7: 1 | C7: ='Αξιολόγηση ενοτήτων'!C7 -> Διαθέτει ο οργανισμός σας σχέδιο υποστήριξης της κινητικότητας για φοιτητές με ειδικές ανάγκες; | D7: ='Αξιολόγηση ενοτήτων'!D7 -> 0 | E7: =IFERROR(IF('Αξιολόγηση ενοτήτων'!D7="","",IF('Αξιολόγηση ενοτήτων'!D7<=2,"Elementary - Basic - Satisfactory","Good to Very Good (cumulative)")),"") | F7: =IFERROR(IF('Αξιολόγηση ενοτήτων'!D7="","— Enter a score in the Αξιολόγηση ενοτήτων sheet —",IF('Αξιολόγηση ενοτήτων'!D7<=2,H7,I7)),"") -> — Enter a score in the Αξιολόγηση ενοτήτων sheet — | G7: Βρείτε ένα παράδειγμα σχεδίου υποστήριξης κινητικότητας στις κατευθυντήριες γραμμές του IMVET κάνοντας κλικ εδώ | H7: • Καταρτίστε ένα σχέδιο υποστήριξης κινητικότητας λαμβάνοντας υπόψη τις ανάγκες των φοιτητών με αναπηρίες. • Εμπλέξτε τους φοιτητές στη δημιουργία του δικού τους σχεδίου, ώστε να μπορούν να μοιραστούν τις ανάγκες τους για υποστήριξη. | I7: • Επανεξετάστε τακτικά το σχέδιο υποστήριξης κινητικότητας με τον φοιτητή πριν, κατά τη διάρκεια και μετά την κινητικότητα. • Αξιολογήστε την εμπειρία κινητικότητας εκ των υστέρων χρησιμοποιώντας το σχέδιο υποστήριξης ως σημείο αναφοράς. • Προσαρμόστε το σχέδιο ώστε να διασφαλιστεί η πλήρης κάλυψη των αναγκών κάθε φοιτητή.
A8: M1 | B8: 2 | C8: ='Αξιολόγηση ενοτήτων'!C8 -> Συμμετέχουν οι φοιτητές στη δημιουργία του δικού τους σχεδίου υποστήριξης κινητικότητας; | D8: ='Αξιολόγηση ενοτήτων'!D8 -> 0 | E8: =IFERROR(IF('Αξιολόγηση ενοτήτων'!D8="","",IF('Αξιολόγηση ενοτήτων'!D8<=2,"Elementary - Basic - Satisfactory","Good to Very Good (cumulative)")),"") | F8: =IFERROR(IF('Αξιολόγηση ενοτήτων'!D8="","— Enter a score in the Αξιολόγηση ενοτήτων sheet —",IF('Αξιολόγηση ενοτήτων'!D8<=2,H8,I8)),"") -> — Enter a score in the Αξιολόγηση ενοτήτων sheet — | H8: • Δημιουργήστε δομημένες ευκαιρίες για τους φοιτητές να συμμετέχουν ενεργά στον σχεδιασμό της δικής τους κινητικότητας. • Καθορίστε ένα απλό σχέδιο παρακολούθησης για τη συμμετοχή των μαθητών με αναπηρίες. • Συμπεριλάβετε τη συμμετοχή των φοιτητών ως ένα τυπικό βήμα στη διαδικασία σχεδιασμού της κινητικότητας. | I8: • Σχεδιάστε από κοινού το σχέδιο υποστήριξης κινητικότητας μαζί με τον φοιτητή, αναθεωρώντας το σε κάθε στάδιο. • Καταγράψτε τις απόψεις των φοιτητών και παρακολουθήστε αν οι δηλωμένες ανάγκες τους ικανοποιούνται. • Χρησιμοποιήστε τα δεδομένα συμμετοχής για να βελτιώσετε τις μελλοντικές διαδικασίες σχεδιασμού κινητικότητας.
A9: M1 | B9: 3 | C9: ='Αξιολόγηση ενοτήτων'!C9 -> Μπορεί ο οργανισμός σας να παρέχει κατάλληλο συνοδό με τις κατάλληλες γνώσεις και δεξιότητες για μαθητές με ειδικές ανάγκες; | D9: ='Αξιολόγηση ενοτήτων'!D9 -> 0 | E9: =IFERROR(IF('Αξιολόγηση ενοτήτων'!D9="","",IF('Αξιολόγηση ενοτήτων'!D9<=2,"Elementary - Basic - Satisfactory","Good to Very Good (cumulative)")),"") | F9: =IFERROR(IF('Αξιολόγηση ενοτήτων'!D9="","— Enter a score in the Αξιολόγηση ενοτήτων sheet —",IF('Αξιολόγηση ενοτήτων'!D9<=2,H9,I9)),"") -> — Enter a score in the Αξιολόγηση ενοτήτων sheet — | H9: • Καθορίστε μια σαφή και συστηματική διαδικασία επιλογής για τον συνοδό. • Βεβαιωθείτε ότι ο συνοδός παρέχει τόσο σωματική όσο και συναισθηματική υποστήριξη. • Οικοδομήστε τη σχέση μεταξύ του συνοδού και του μαθητή πριν από την αναχώρηση. | I9: • Επεκτείνετε το δίκτυο υποστήριξης εμπλέκοντας το προσωπικό του οργανισμού υποδοχής (εκπαιδευτή, συνάδελφο) παράλληλα με τον συνοδό. • Αναγνωρίστε και εκτιμήστε επίσημα τη συμβολή του συνοδού. • Δημιουργήστε ένα κοινό πρωτόκολλο με ενδιάμεσους οργανισμούς για εξατομικευμένη συνοδευτική υποστήριξη.
A10: M1 | B10: 4 | C10: ='Αξιολόγηση ενοτήτων'!C10 -> Σε ποιο επίπεδο αξιολογεί ο οργανισμός ΕΕΚ τη στήριξη που παρέχει στους φοιτητές κατά τη διάρκεια της κινητικότητας, με σκοπό τη βελτίωση των πρακτικών του; | D10: ='Αξιολόγηση ενοτήτων'!D10 -> 0 | E10: =IFERROR(IF('Αξιολόγηση ενοτήτων'!D10="","",IF('Αξιολόγηση ενοτήτων'!D10<=2,"Elementary - Basic - Satisfactory","Good to Very Good (cumulative)")),"") | F10: =IFERROR(IF('Αξιολόγηση ενοτήτων'!D10="","— Enter a score in the Αξιολόγηση ενοτήτων sheet —",IF('Αξιολόγηση ενοτήτων'!D10<=2,H10,I10)),"") -> — Enter a score in the Αξιολόγηση ενοτήτων sheet — | H10: • Προσδιορίστε τα μέλη του προσωπικού που είναι κατάλληλα για τη συνοδεία των φοιτητών κατά τη μετακίνηση και παρέχετε τους στοχευμένη εκπαίδευση. • Καθορίστε σαφείς προσδοκίες και ευθύνες για το συνοδευτικό προσωπικό πριν από κάθε μετακίνηση. • Προσφέρετε εκπαίδευση σχετικά με την ευαισθητοποίηση σε θέματα αναπηρίας, τα πρωτόκολλα έκτακτης ανάγκης και τις τεχνικές υποστήριξης χωρίς αποκλεισμούς. | I10: • Καθιερώστε ένα επίσημο πρόγραμμα κατάρτισης για το συνοδευτικό προσωπικό με τακτικές ενημερώσεις. • Δημιουργήστε ένα δίκτυο υποστήριξης για το συνοδευτικό προσωπικό, ώστε να μοιράζονται εμπειρίες και προκλήσεις. • Αξιολογήστε την ποιότητα της συνοδευτικής υποστήριξης μετά από κάθε κινητικότητα και χρησιμοποιήστε τα ευρήματα για τη βελτίωση της κατάρτισης.
A11: M1 | B11: 5 | C11: ='Αξιολόγηση ενοτήτων'!C11 -> Ο οργανισμός σας προσφέρει προγράμματα κινητικότητας τόσο βραχυπρόθεσμης όσο και μακροπρόθεσμης διάρκειας για μαθητές με ειδικές ανάγκες; | D11: ='Αξιολόγηση ενοτήτων'!D11 -> 0 | E11: =IFERROR(IF('Αξιολόγηση ενοτήτων'!D11="","",IF('Αξιολόγηση ενοτήτων'!D11<=2,"Elementary - Basic - Satisfactory","Good to Very Good (cumulative)")),"") | F11: =IFERROR(IF('Αξιολόγηση ενοτήτων'!D11="","— Enter a score in the Αξιολόγηση ενοτήτων sheet —",IF('Αξιολόγηση ενοτήτων'!D11<=2,H11,I11)),"") -> — Enter a score in the Αξιολόγηση ενοτήτων sheet — | H11: • Διερεύνηση του φάσματος των διαθέσιμων επιλογών κινητικότητας βραχυπρόθεσμης και μακροπρόθεσμης διάρκειας για φοιτητές με ειδικές ανάγκες. • Αξιολόγηση της καταλληλότερης διάρκειας κινητικότητας για κάθε μαθητή ξεχωριστά. • Προσφορά ενός ποικίλου χαρτοφυλακίου κινητικότητας με διαφορετικές διάρκειες, προσαρμόσιμων σε κάθε φοιτητή. | I11: • Επανεξετάστε τακτικά την προσφορά κινητικότητας, ώστε να ανταποκρίνεται καλύτερα στις διαφορετικές ανάγκες των φοιτητών. • Συνεργαστείτε με οργανισμούς-εταίρους για την ανάπτυξη νέων ευέλικτων μορφών κινητικότητας. • Καταγράψτε τα αποτελέσματα των διαφορετικών χρονικών διαρκειών κινητικότητας, ώστε να ενημερώσετε τον μελλοντικό σχεδιασμό των προγραμμάτων.
A12: M1 | B12: 6 | C12: ='Αξιολόγηση ενοτήτων'!C12 -> Ο οργανισμός σας διοργανώνει προπαρασκευαστικές επισκέψεις ή διαδικτυακές προπαρασκευαστικές συναντήσεις για μαθητές με ειδικές ανάγκες; | D12: ='Αξιολόγηση ενοτήτων'!D12 -> 0 | E12: =IFERROR(IF('Αξιολόγηση ενοτήτων'!D12="","",IF('Αξιολόγηση ενοτήτων'!D12<=2,"Elementary - Basic - Satisfactory","Good to Very Good (cumulative)")),"") | F12: =IFERROR(IF('Αξιολόγηση ενοτήτων'!D12="","— Enter a score in the Αξιολόγηση ενοτήτων sheet —",IF('Αξιολόγηση ενοτήτων'!D12<=2,H12,I12)),"") -> — Enter a score in the Αξιολόγηση ενοτήτων sheet — | G12: Βρείτε ένα επεξηγηματικό αρχείο με λίστα ελέγχου για τις προετοιμασίες πριν από την κινητικότητα κάνοντας κλικ εδώ | H12: • Καθορίστε ένα πρωτόκολλο για προπαρασκευαστικές επισκέψεις ή διαδικτυακές προπαρασκευαστικές συναντήσεις ως μέρος του τυπικού σχεδιασμού. • Αναθέστε την ευθύνη για τις προπαρασκευαστικές επισκέψεις στο συνοδευτικό προσωπικό. • Δημιουργήστε έναν κατάλογο ελέγχου με θέματα που πρέπει να διερευνηθούν πριν από την προπαρασκευαστική επίσκεψη. • Για περισσότερες πληροφορίες, ανατρέξτε στην ενότητα «Προετοιμασίες πριν από την κινητικότητα» - IMVET (Ενότητα 3 των κατευθυντήριων γραμμών IMVET). | I12: • Διοργανώστε τακτικές συναντήσεις αξιολόγησης σχετικά με τις προπαρασκευαστικές επισκέψεις, προκειμένου να βελτιώνετε συνεχώς τη διαδικασία. • Ενημερώνετε τα δεδομένα και τις σημειώσεις από τις επισκέψεις και μοιραστείτε τα με το αρμόδιο προσωπικό. • Χρησιμοποιήστε τις προπαρασκευαστικές επισκέψεις για να οικοδομήσετε σχέσεις με τους οργανισμούς υποδοχής και να ενισχύσετε το δίκτυο υποστήριξης.
A14: Ενότητα 2 — Πολιτική, πόροι και χρηματοδότηση
A15: M2 | B15: 1 | C15: ='Αξιολόγηση ενοτήτων'!C17 -> Διαθέτει ο οργανισμός σας στρατηγική διεθνοποίησης που περιλαμβάνει στόχους ένταξης; | D15: ='Αξιολόγηση ενοτήτων'!D17 -> 0 | E15: =IFERROR(IF('Αξιολόγηση ενοτήτων'!D17="","",IF('Αξιολόγηση ενοτήτων'!D17<=2,"Elementary - Basic - Satisfactory","Good to Very Good (cumulative)")),"") | F15: =IFERROR(IF('Αξιολόγηση ενοτήτων'!D17="","— Enter a score in the Αξιολόγηση ενοτήτων sheet —",IF('Αξιολόγηση ενοτήτων'!D17<=2,H15,I15)),"") -> — Enter a score in the Αξιολόγηση ενοτήτων sheet — | H15: • Αναπτύξτε μια σαφή στρατηγική για τη διεθνοποίηση που να περιλαμβάνει ρητά στόχους κινητικότητας χωρίς αποκλεισμούς. • Βεβαιωθείτε ότι οι ρόλοι και οι ευθύνες για τη διεθνοποίηση είναι σαφώς καθορισμένοι και τεκμηριωμένοι. • Κοινοποιήστε τη στρατηγική σε όλο το αρμόδιο προσωπικό. | I15: • Διατηρήστε τη στρατηγική ενημερωμένη και αναθεωρήστε την ετησίως με τους αρμόδιους ενδιαφερόμενους. • Ευθυγραμμίστε τη στρατηγική διεθνοποίησης με τις ευρύτερες πολιτικές ένταξης του οργανισμού. • Παρακολουθήστε και αναφέρετε την πρόοδο προς την επίτευξη των στόχων της διεθνοποίησης χωρίς αποκλεισμούς.
A16: M2 | B16: 2 | C16: ='Αξιολόγηση ενοτήτων'!C18 -> Ο οργανισμός σας καταρτίζει ετήσιο σχέδιο διεθνοποίησης που περιλαμβάνει τους στόχους ένταξης; | D16: ='Αξιολόγηση ενοτήτων'!D18 -> 0 | E16: =IFERROR(IF('Αξιολόγηση ενοτήτων'!D18="","",IF('Αξιολόγηση ενοτήτων'!D18<=2,"Elementary - Basic - Satisfactory","Good to Very Good (cumulative)")),"") | F16: =IFERROR(IF('Αξιολόγηση ενοτήτων'!D18="","— Enter a score in the Αξιολόγηση ενοτήτων sheet —",IF('Αξιολόγηση ενοτήτων'!D18<=2,H16,I16)),"") -> — Enter a score in the Αξιολόγηση ενοτήτων sheet — | H16: • Δημιουργήστε ένα ετήσιο σχέδιο δράσης για τη διεθνοποίηση που περιλαμβάνει συγκεκριμένους στόχους χωρίς αποκλεισμούς. • Ορίστε σαφή ορόσημα, αρμοδιότητες και χρονοδιαγράμματα για κάθε δράση. • Κοινοποιήστε το σχέδιο σε όλο το αρμόδιο προσωπικό και αξιολογείτε τακτικά την πρόοδο. | I16: • Επανεξετάστε και ενημερώστε το σχέδιο δράσης κάθε χρόνο με τη συμβολή όλων των ενδιαφερόμενων μερών. • Αξιολογήστε την πρόοδο σε σχέση με το σχέδιο και καταγράψτε τα διδάγματα που αποκομίσατε. • Διασφαλίστε ότι οι στόχοι κινητικότητας χωρίς αποκλεισμούς παρακολουθούνται και αναφέρονται.
A17: M2 | B17: 3 | C17: ='Αξιολόγηση ενοτήτων'!C19 -> Ο οργανισμός σας αναθέτει σαφώς τις ευθύνες για την κινητικότητα χωρίς αποκλεισμούς και διασφαλίζει ότι οι φοιτητές γνωρίζουν σε ποιον να απευθυνθούν για υποστήριξη; | D17: ='Αξιολόγηση ενοτήτων'!D19 -> 0 | E17: =IFERROR(IF('Αξιολόγηση ενοτήτων'!D19="","",IF('Αξιολόγηση ενοτήτων'!D19<=2,"Elementary - Basic - Satisfactory","Good to Very Good (cumulative)")),"") | F17: =IFERROR(IF('Αξιολόγηση ενοτήτων'!D19="","— Enter a score in the Αξιολόγηση ενοτήτων sheet —",IF('Αξιολόγηση ενοτήτων'!D19<=2,H17,I17)),"") -> — Enter a score in the Αξιολόγηση ενοτήτων sheet — | H17: • Αναθέστε σαφώς τις ευθύνες για την κινητικότητα χωρίς αποκλεισμούς σε συγκεκριμένα μέλη του προσωπικού. • Διασφαλίστε ότι όλοι οι φοιτητές γνωρίζουν σε ποιον να απευθυνθούν όταν χρειάζονται υποστήριξη. • Καταγράψτε την ανάθεση ρόλων και κάντε αυτές τις πληροφορίες εύκολα προσβάσιμες. | I17: • Επισήμανση της συνεργασίας με βασικούς εταίρους μέσω συμφωνιών συνεργασίας που περιλαμβάνουν στόχους για την κινητικότητα χωρίς αποκλεισμούς. • Τακτική επανεξέταση της αποτελεσματικότητας της ανάθεσης αρμοδιοτήτων και ενημέρωση, όπως απαιτείται. • Συμμετοχή των φοιτητών με αναπηρίες στην αξιολόγηση του κατά πόσον οι δομές υποστήριξης είναι σαφείς και προσβάσιμες.
A18: M2 | B18: 4 | C18: ='Αξιολόγηση ενοτήτων'!C20 -> Συνεργάζεται αποτελεσματικά όλο το αρμόδιο προσωπικό για την οργάνωση προγραμμάτων κινητικότητας χωρίς αποκλεισμούς; | D18: ='Αξιολόγηση ενοτήτων'!D20 -> 0 | E18: =IFERROR(IF('Αξιολόγηση ενοτήτων'!D20="","",IF('Αξιολόγηση ενοτήτων'!D20<=2,"Elementary - Basic - Satisfactory","Good to Very Good (cumulative)")),"") | F18: =IFERROR(IF('Αξιολόγηση ενοτήτων'!D20="","— Enter a score in the Αξιολόγηση ενοτήτων sheet —",IF('Αξιολόγηση ενοτήτων'!D20<=2,H18,I18)),"") -> — Enter a score in the Αξιολόγηση ενοτήτων sheet — | H18: • Δημιουργήστε σαφείς και συνεπείς μεθόδους εργασίας για όλο το προσωπικό που εμπλέκεται στην κινητικότητα χωρίς αποκλεισμούς. • Καθορίστε ποιος κάνει τι και καταγράψτε τους ρόλους και τις ευθύνες για κάθε ομάδα προσωπικού. • Καταγράψτε τις βασικές διαδικασίες σε απλή, προσβάσιμη τεκμηρίωση. | I18: • Βελτιώστε τις υπάρχουσες διαδικασίες συνεργασίας, καθιστώντας τις πιο αποτελεσματικές και διαφανείς. • Συντονίστε στρατηγικά τη χρήση των πόρων μεταξύ των τμημάτων για την υποστήριξη της κινητικότητας χωρίς αποκλεισμούς. • Χρησιμοποιήστε την ανατροφοδότηση και την εμπειρία από προηγούμενες κινητικότητες για να υποστηρίξετε τη συνεχή μάθηση και βελτίωση.
A19: M2 | B19: 5 | C19: ='Αξιολόγηση ενοτήτων'!C21 -> Ο οργανισμός σας εξασφαλίζει επαρκείς οικονομικούς πόρους για δραστηριότητες διεθνοποίησης χωρίς αποκλεισμούς; | D19: ='Αξιολόγηση ενοτήτων'!D21 -> 0 | E19: =IFERROR(IF('Αξιολόγηση ενοτήτων'!D21="","",IF('Αξιολόγηση ενοτήτων'!D21<=2,"Elementary - Basic - Satisfactory","Good to Very Good (cumulative)")),"") | F19: =IFERROR(IF('Αξιολόγηση ενοτήτων'!D21="","— Enter a score in the Αξιολόγηση ενοτήτων sheet —",IF('Αξιολόγηση ενοτήτων'!D21<=2,H19,I19)),"") -> — Enter a score in the Αξιολόγηση ενοτήτων sheet — | G19: Βρείτε κανονισμούς σχετικά με την ένταξη κάνοντας κλικ εδώ | H19: • Χαρτογραφήστε τις υπάρχουσες πηγές χρηματοδότησης για την κινητικότητα χωρίς αποκλεισμούς (Erasmus+, εθνικά προγράμματα, ίδιοι πόροι). • Διαθέστε μια σαφή γραμμή προϋπολογισμού για τη στήριξη της κινητικότητας χωρίς αποκλεισμούς. • Εξερευνήστε πρόσθετες ευκαιρίες χρηματοδότησης (χορηγοί, ευρωπαϊκά έργα). | I19: • Ελέγξτε τακτικά τους οικονομικούς πόρους και ευθυγραμμίστε τους στρατηγικά με τους στόχους της κινητικότητας χωρίς αποκλεισμούς. • Διαφοροποιήστε τις πηγές εσόδων για να εξασφαλίσετε τη χρηματοοικονομική βιωσιμότητα της κινητικότητας χωρίς αποκλεισμούς. • Αναπτύξτε σαφείς διαδικασίες για την πρόσβαση και τη διαχείριση της χρηματοδότησης της κινητικότητας.
A21: Ενότητα 3 — Νομικές και ηθικές πτυχές
A22: M3 | B22: 1 | C22: ='Αξιολόγηση ενοτήτων'!C26 -> Ο οργανισμός σας διασφαλίζει ότι οι φοιτητές με αναπηρίες τυγχάνουν ίσης μεταχείρισης και δεν αποκλείονται από την κινητικότητα; | D22: ='Αξιολόγηση ενοτήτων'!D26 -> 0 | E22: =IFERROR(IF('Αξιολόγηση ενοτήτων'!D26="","",IF('Αξιολόγηση ενοτήτων'!D26<=2,"Elementary - Basic - Satisfactory","Good to Very Good (cumulative)")),"") | F22: =IFERROR(IF('Αξιολόγηση ενοτήτων'!D26="","— Enter a score in the Αξιολόγηση ενοτήτων sheet —",IF('Αξιολόγηση ενοτήτων'!D26<=2,H22,I22)),"") -> — Enter a score in the Αξιολόγηση ενοτήτων sheet — | H22: • Βεβαιωθείτε ότι οι φοιτητές με αναπηρίες τυγχάνουν ίσης μεταχείρισης και δεν αποκλείονται από τα προγράμματα κινητικότητας. • Εξετάστε πώς μπορείτε να κάνετε το πρόγραμμα κινητικότητας πιο προσβάσιμο σε όλους τους φοιτητές. • Ενημερώστε όλο το προσωπικό σχετικά με τις υποχρεώσεις ίσης μεταχείρισης. | I22: • Εισαγάγετε ένα τυποποιημένο κατάλογο ελέγχου πριν από κάθε κινητικότητα για να επαληθεύετε την ίση μεταχείριση στην επιλογή, τη συμμετοχή και την αξιολόγηση. • Ελέγχετε τακτικά τα ποσοστά συμμετοχής των φοιτητών με αναπηρίες στα προγράμματα κινητικότητας. • Ενημερώνετε ετησίως τις πολιτικές ίσης μεταχείρισης με βάση τα ευρήματα.
A23: M3 | B23: 2 | C23: ='Αξιολόγηση ενοτήτων'!C27 -> Ο οργανισμός σας διασφαλίζει την ευαισθητοποίηση και τη συμμόρφωση με τα βασικά νομικά πλαίσια για τα δικαιώματα των ατόμων με αναπηρία σε όλες τις δραστηριότητες κινητικότητας; (Τα βασικά πλαίσια περιλαμβάνουν: τη Σύμβαση των Ηνωμένων Εθνών για τα Δικαιώματα των Ατόμων με Αναπηρία (CRPD), τον Χάρτη των Θεμελιωδών Δικαιωμάτων της ΕΕ και τους σχετικούς εθνικούς κανονισμούς.) | D23: ='Αξιολόγηση ενοτήτων'!D27 -> 0 | E23: =IFERROR(IF('Αξιολόγηση ενοτήτων'!D27="","",IF('Αξιολόγηση ενοτήτων'!D27<=2,"Elementary - Basic - Satisfactory","Good to Very Good (cumulative)")),"") | F23: =IFERROR(IF('Αξιολόγηση ενοτήτων'!D27="","— Enter a score in the Αξιολόγηση ενοτήτων sheet —",IF('Αξιολόγηση ενοτήτων'!D27<=2,H23,I23)),"") -> — Enter a score in the Αξιολόγηση ενοτήτων sheet — | H23: • Ενημερώστε όλο το προσωπικό σχετικά με τη Σύμβαση για τα Δικαιώματα των Ατόμων με Αναπηρία (CRPD) και τον Χάρτη των Θεμελιωδών Δικαιωμάτων της ΕΕ. • Ενσωματώστε την ευαισθητοποίηση σχετικά με το νομικό πλαίσιο στην εισαγωγή και την κατάρτιση του προσωπικού. • Ελέγξτε κατά πόσον οι δραστηριότητες κινητικότητας συμμορφώνονται με τους σχετικούς εθνικούς κανονισμούς. | I23: • Οργανώστε μια υποχρεωτική εκπαιδευτική συνεδρία (μία φορά ανά κύκλο κινητικότητας) όπου το προσωπικό εφαρμόζει βασικά άρθρα της CRPD σε πραγματικά σενάρια. • Καθορίστε μια διαδικασία για την τακτική επανεξέταση της συμμόρφωσης με τα επικαιροποιημένα νομικά πλαίσια. • Τεκμηριώστε τον τρόπο με τον οποίο οι δραστηριότητες κινητικότητας πληρούν κάθε σχετική νομική απαίτηση.
A24: M3 | B24: 3 | C24: ='Αξιολόγηση ενοτήτων'!C28 -> Διαθέτει ο οργανισμός σας επίσημη ασφαλιστική πολιτική που καλύπτει όλους τους φοιτητές κατά τη διάρκεια της κινητικότητας; | D24: ='Αξιολόγηση ενοτήτων'!D28 -> 0 | E24: =IFERROR(IF('Αξιολόγηση ενοτήτων'!D28="","",IF('Αξιολόγηση ενοτήτων'!D28<=2,"Elementary - Basic - Satisfactory","Good to Very Good (cumulative)")),"") | F24: =IFERROR(IF('Αξιολόγηση ενοτήτων'!D28="","— Enter a score in the Αξιολόγηση ενοτήτων sheet —",IF('Αξιολόγηση ενοτήτων'!D28<=2,H24,I24)),"") -> — Enter a score in the Αξιολόγηση ενοτήτων sheet — | H24: • Δημιουργήστε μια επίσημη ασφαλιστική πολιτική που να εξασφαλίζει ότι κάθε φοιτητής καλύπτεται πριν από το ταξίδι. • Ελέγξτε ότι η ασφάλιση καλύπτει τις ανάγκες που σχετίζονται με την αναπηρία (ιατρικός εξοπλισμός, υπηρεσίες βοήθειας). • Βεβαιωθείτε ότι οι οργανισμοί υποδοχής καλύπτονται επίσης, όπου ισχύει. | I24: • Ελέγξτε ξεχωριστά το ασφαλιστήριο συμβόλαιο κάθε συμμετέχοντα για να επιβεβαιώσετε την κάλυψη που σχετίζεται με την αναπηρία. • Καθιερώστε έναν τυποποιημένο κατάλογο ελέγχου για την ασφάλιση πριν από την αναχώρηση. • Ελέγχετε το ασφαλιστήριο συμβόλαιο ετησίως για να βεβαιωθείτε ότι παραμένει επαρκές.
A25: M3 | B25: 4 | C25: ='Αξιολόγηση ενοτήτων'!C29 -> Ο οργανισμός σας προστατεύει τα ευαίσθητα προσωπικά δεδομένα (π.χ. ιατρικές πληροφορίες) σύμφωνα με τον ΓΚΠΔ; | D25: ='Αξιολόγηση ενοτήτων'!D29 -> 0 | E25: =IFERROR(IF('Αξιολόγηση ενοτήτων'!D29="","",IF('Αξιολόγηση ενοτήτων'!D29<=2,"Elementary - Basic - Satisfactory","Good to Very Good (cumulative)")),"") | F25: =IFERROR(IF('Αξιολόγηση ενοτήτων'!D29="","— Enter a score in the Αξιολόγηση ενοτήτων sheet —",IF('Αξιολόγηση ενοτήτων'!D29<=2,H25,I25)),"") -> — Enter a score in the Αξιολόγηση ενοτήτων sheet — | G25: Ελέγξτε τη φόρμα συγκατάθεσης των μαθητών κάνοντας κλικ εδώ | H25: • Διαμορφώστε μια σαφή πολιτική, σύμφωνη με τον ΓΚΠΔ, για την προστασία ευαίσθητων προσωπικών δεδομένων, όπως ιατρικές πληροφορίες. • Μοιραστείτε ευαίσθητα δεδομένα μόνο με τη ρητή γραπτή συγκατάθεση του φοιτητή (βλ. έντυπο γραπτής συγκατάθεσης στα παραρτήματα του IMVET). • Εκπαιδεύστε το προσωπικό σχετικά με τις υποχρεώσεις προστασίας δεδομένων που σχετίζονται με την κινητικότητα. | I25: • Διεξάγετε περιοδικούς ελέγχους προστασίας δεδομένων για να διασφαλίσετε τη συνεχή συμμόρφωση με τον ΓΚΠΔ. • Αναπτύξτε σαφή πρωτόκολλα επικοινωνίας, ώστε οι φοιτητές να γνωρίζουν πώς χρησιμοποιούνται και προστατεύονται τα δεδομένα τους. • Ελέγχετε τακτικά τα έντυπα συγκατάθεσης και τις συμφωνίες κοινοποίησης δεδομένων.
A26: M3 | B26: 5 | C26: ='Αξιολόγηση ενοτήτων'!C30 -> Ο οργανισμός σας διασφαλίζει ότι το συνοδευτικό προσωπικό λαμβάνει εκπαίδευση ώστε να παρέχει την κατάλληλη υποστήριξη κατά τη διάρκεια της κινητικότητας; | D26: ='Αξιολόγηση ενοτήτων'!D30 -> 0 | E26: =IFERROR(IF('Αξιολόγηση ενοτήτων'!D30="","",IF('Αξιολόγηση ενοτήτων'!D30<=2,"Elementary - Basic - Satisfactory","Good to Very Good (cumulative)")),"") | F26: =IFERROR(IF('Αξιολόγηση ενοτήτων'!D30="","— Enter a score in the Αξιολόγηση ενοτήτων sheet —",IF('Αξιολόγηση ενοτήτων'!D30<=2,H26,I26)),"") -> — Enter a score in the Αξιολόγηση ενοτήτων sheet — | H26: • Προσδιορίστε το συνοδευτικό προσωπικό για τις δραστηριότητες κινητικότητας και παρέχετε του στοχευμένη εκπαίδευση για την υποστήριξη ατόμων με αναπηρία. • Καθορίστε σαφείς αρμοδιότητες για το συνοδευτικό προσωπικό όσον αφορά την υποστήριξη των φοιτητών. • Διασφαλίστε ότι η εκπαίδευση καλύπτει την ευαισθητοποίηση σχετικά με την αναπηρία, την επικοινωνία και τα πρωτόκολλα έκτακτης ανάγκης. | I26: • Καθορίστε ένα επίσημο και επαναλαμβανόμενο πρόγραμμα κατάρτισης για το συνοδευτικό προσωπικό. • Αξιολογήστε την ποιότητα της υποστήριξης που παρέχεται από το συνοδευτικό προσωπικό μετά από κάθε κινητικότητα. • Χρησιμοποιήστε τα ευρήματα της αξιολόγησης για τη συνεχή βελτίωση του προγράμματος κατάρτισης.
A27: M3 | B27: 6 | C27: ='Αξιολόγηση ενοτήτων'!C31 -> Ο οργανισμός σας εντοπίζει και αντιμετωπίζει πιθανά φαινόμενα στιγματισμού ή διακρίσεων στη χώρα υποδοχής; | D27: ='Αξιολόγηση ενοτήτων'!D31 -> 0 | E27: =IFERROR(IF('Αξιολόγηση ενοτήτων'!D31="","",IF('Αξιολόγηση ενοτήτων'!D31<=2,"Elementary - Basic - Satisfactory","Good to Very Good (cumulative)")),"") | F27: =IFERROR(IF('Αξιολόγηση ενοτήτων'!D31="","— Enter a score in the Αξιολόγηση ενοτήτων sheet —",IF('Αξιολόγηση ενοτήτων'!D31<=2,H27,I27)),"") -> — Enter a score in the Αξιολόγηση ενοτήτων sheet — | H27: • Συζητήστε με τον οργανισμό υποδοχής ότι δεν θα γίνει ανεκτή η διάκριση εις βάρος του φοιτητή. • Ενημερώστε τον φοιτητή σχετικά με τον τρόπο πρόσβασης σε βοήθεια σε περίπτωση που αντιμετωπίσει διάκριση κατά τη διάρκεια της κινητικότητας. • Ερευνήστε πιθανούς κινδύνους στιγματισμού ή διάκρισης στη χώρα υποδοχής πριν από την αναχώρηση. | I27: • Διεξάγετε μια εκτίμηση κινδύνου πριν από την κινητικότητα σχετικά με τη διάκριση και το στίγμα στον προορισμό. • Αναπτύξτε ένα σαφές πρωτόκολλο αντίδρασης για περιστατικά διάκρισης κατά τη διάρκεια της κινητικότητας. • Δημιουργήστε σχέσεις με τοπικούς οργανισμούς στις χώρες υποδοχής που μπορούν να υποστηρίξουν τους φοιτητές.
A29: Ενότητα 4 — Πολιτισμική ευαισθησία και ευαισθητοποίηση
A30: M4 | B30: 1 | C30: ='Αξιολόγηση ενοτήτων'!C36 -> Ο οργανισμός σας παρέχει πολιτιστικές πληροφορίες σχετικά με τη χώρα προορισμού στους συμμετέχοντες στην κινητικότητα; | D30: ='Αξιολόγηση ενοτήτων'!D36 -> 0 | E30: =IFERROR(IF('Αξιολόγηση ενοτήτων'!D36="","",IF('Αξιολόγηση ενοτήτων'!D36<=2,"Elementary - Basic - Satisfactory","Good to Very Good (cumulative)")),"") | F30: =IFERROR(IF('Αξιολόγηση ενοτήτων'!D36="","— Enter a score in the Αξιολόγηση ενοτήτων sheet —",IF('Αξιολόγηση ενοτήτων'!D36<=2,H30,I30)),"") -> — Enter a score in the Αξιολόγηση ενοτήτων sheet — | H30: • Παρέχετε βασικές πολιτισμικές πληροφορίες σχετικά με τα τοπικά έθιμα, τις παραδόσεις, την κοινωνική εθιμοτυπία, τη θρησκεία και τις διατροφικές συνήθειες πριν από την αναχώρηση. • Εξηγήστε πώς οι διαφορετικές κουλτούρες αντιλαμβάνονται την αναπηρία. • Δημιουργήστε ευκαιρίες για τους φοιτητές να μάθουν και να μοιραστούν εμπειρίες σχετικά με τις πολιτισμικές διαφορές. | I30: • Προσφέρετε δομημένες συνεδρίες κατάρτισης πριν από την αναχώρηση, εστιασμένες στις πολιτισμικές διαφορές και την ευαισθητοποίηση σχετικά με την αναπηρία. • Κατά τη διάρκεια της κινητικότητας, παρέχετε πρόσβαση σε μέντορες που είναι εξοικειωμένοι με την τοπική κουλτούρα. • Ενσωματώστε την πολιτισμική ευαισθησία στο πρόγραμμα σπουδών και προσκαλέστε ομιλητές από διαφορετικά υπόβαθρα.
A31: M4 | B31: 2 | C31: ='Αξιολόγηση ενοτήτων'!C37 -> Ο οργανισμός σας αξιολογεί τις γλωσσικές δεξιότητες των συμμετεχόντων και προσφέρει γλωσσική προετοιμασία πριν από την κινητικότητα; | D31: ='Αξιολόγηση ενοτήτων'!D37 -> 0 | E31: =IFERROR(IF('Αξιολόγηση ενοτήτων'!D37="","",IF('Αξιολόγηση ενοτήτων'!D37<=2,"Elementary - Basic - Satisfactory","Good to Very Good (cumulative)")),"") | F31: =IFERROR(IF('Αξιολόγηση ενοτήτων'!D37="","— Enter a score in the Αξιολόγηση ενοτήτων sheet —",IF('Αξιολόγηση ενοτήτων'!D37<=2,H31,I31)),"") -> — Enter a score in the Αξιολόγηση ενοτήτων sheet — | H31: • Πραγματοποιήστε συνέντευξη με τον φοιτητή για να αξιολογήσετε τις γλωσσικές του δεξιότητες και να εντοπίσετε κενά. • Διδάξτε βασικές φράσεις και συγκεκριμένη ορολογία σχετική με το πλαίσιο της κινητικότητας. • Παρέχετε βασικό ενημερωτικό υλικό σχετικά με τις γλωσσικές ανάγκες και τις πολιτισμικές προσδοκίες. | I31: • Αξιολογήστε τις γλωσσικές δεξιότητες των φοιτητών χρησιμοποιώντας την κλίμακα CEFR (A1–C2). • Προσφέρετε ένα στοχευμένο γλωσσικό μάθημα για να προετοιμάσετε τους φοιτητές για βασική επικοινωνία (A1–A2). • Παρέχετε πρόσθετους γλωσσικούς πόρους προσαρμοσμένους σε φοιτητές με αναπηρίες.
A32: M4 | B32: 3 | C32: ='Αξιολόγηση ενοτήτων'!C38 -> Ο οργανισμός σας ζητά ανατροφοδότηση από τους συμμετέχοντες σχετικά με τις πολιτισμικές εμπειρίες τους μετά την κινητικότητα; | D32: ='Αξιολόγηση ενοτήτων'!D38 -> 0 | E32: =IFERROR(IF('Αξιολόγηση ενοτήτων'!D38="","",IF('Αξιολόγηση ενοτήτων'!D38<=2,"Elementary - Basic - Satisfactory","Good to Very Good (cumulative)")),"") | F32: =IFERROR(IF('Αξιολόγηση ενοτήτων'!D38="","— Enter a score in the Αξιολόγηση ενοτήτων sheet —",IF('Αξιολόγηση ενοτήτων'!D38<=2,H32,I32)),"") -> — Enter a score in the Αξιολόγηση ενοτήτων sheet — | G32: Βρείτε περισσότερες οδηγίες για την υποστήριξη μετά την κινητικότητα κάνοντας κλικ εδώ | H32: • Παρέχετε δομημένες ευκαιρίες στους συμμετέχοντες να δώσουν ανατροφοδότηση σχετικά με την πολιτισμική τους εμπειρία μετά την κινητικότητα. • Αναλύστε την ανατροφοδότηση που συλλέξατε για να εντοπίσετε τομείς που χρήζουν βελτίωσης. • Μοιραστείτε τα ευρήματα με το προσωπικό και χρησιμοποιήστε τα για να ενημερώσετε το υλικό πολιτισμικής προετοιμασίας. | I32: • Καθοδηγήστε τους συμμετέχοντες να δίνουν συγκεκριμένη, εφαρμόσιμη ανατροφοδότηση σχετικά με την πολιτισμική ευαισθησία ή αδιαφορία. • Εξασφαλίστε την ανωνυμία και την εμπιστευτικότητα στη διαδικασία ανατροφοδότησης, όπου είναι απαραίτητο. • Χρησιμοποιήστε την ανατροφοδότηση συστηματικά για τη βελτίωση μελλοντικών προγραμμάτων πολιτισμικής προετοιμασίας.
A34: Ενότητα 5 — Ενταξιακή επικοινωνία και ψηφιακή προσβασιμότητα
A35: M5 | B35: 1 | C35: ='Αξιολόγηση ενοτήτων'!C43 -> Ο οργανισμός ΕΕΚ σας παρέχει σαφή και απλή διοικητική υποστήριξη στους μαθητές που συμμετέχουν σε προγράμματα κινητικότητας (βίζα, χρηματοδότηση, στέγαση κ.λπ.)? | D35: ='Αξιολόγηση ενοτήτων'!D43 -> 0 | E35: =IFERROR(IF('Αξιολόγηση ενοτήτων'!D43="","",IF('Αξιολόγηση ενοτήτων'!D43<=2,"Elementary - Basic - Satisfactory","Good to Very Good (cumulative)")),"") | F35: =IFERROR(IF('Αξιολόγηση ενοτήτων'!D43="","— Enter a score in the Αξιολόγηση ενοτήτων sheet —",IF('Αξιολόγηση ενοτήτων'!D43<=2,H35,I35)),"") -> — Enter a score in the Αξιολόγηση ενοτήτων sheet — | H35: • Δημιουργήστε απλούς οδηγούς βήμα προς βήμα χρησιμοποιώντας απλή γλώσσα για τις διαδικασίες έκδοσης βίζας, χρηματοδότησης και στέγασης. • Προσφέρετε μια βασική ενημερωτική συνάντηση για φοιτητές που δεν έχουν εμπειρία με τις διαδικασίες κινητικότητας. • Κάντε τις πληροφορίες επικοινωνίας του διοικητικού προσωπικού εύκολα προσβάσιμες στον ιστότοπο. | I35: • Δημιουργήστε μια διαδικτυακή πύλη αυτοεξυπηρέτησης με ενημερωμένες πληροφορίες σχετικά με τη χρηματοδότηση, τη στέγαση και τη βίζα. • Προσφέρετε προσωπική καθοδήγηση σε φοιτητές που χρειάζονται επιπλέον βοήθεια. • Χρησιμοποιήστε σύντομες έρευνες ανατροφοδότησης για να βελτιώσετε τη σαφήνεια και την εμπειρία του χρήστη.
A36: M5 | B36: 2 | C36: ='Αξιολόγηση ενοτήτων'!C44 -> Σε ποιο βαθμό ο οργανισμός ΕΕΚ σας χρησιμοποιεί προγράμματα αλληλοϋποστήριξης για να βοηθήσει τους φοιτητές με αναπηρίες; | D36: ='Αξιολόγηση ενοτήτων'!D44 -> 0 | E36: =IFERROR(IF('Αξιολόγηση ενοτήτων'!D44="","",IF('Αξιολόγηση ενοτήτων'!D44<=2,"Elementary - Basic - Satisfactory","Good to Very Good (cumulative)")),"") | F36: =IFERROR(IF('Αξιολόγηση ενοτήτων'!D44="","— Enter a score in the Αξιολόγηση ενοτήτων sheet —",IF('Αξιολόγηση ενοτήτων'!D44<=2,H36,I36)),"") -> — Enter a score in the Αξιολόγηση ενοτήτων sheet — | H36: • Εύρεση φοιτητών ή μεντόρων που επιθυμούν να συμμετάσχουν σε πρόγραμμα αλληλοϋποστήριξης. • Παροχή εκπαίδευσης στους υποστηρικτές ώστε να κατανοήσουν τις πρακτικές ένταξης, την εμπιστευτικότητα, τα καθήκοντά τους και τα όρια. • Έναρξη με ένα μικρό και σαφές σύστημα αντιστοίχισης ομοτίμων για φοιτητές με αναπηρίες που συμμετέχουν σε προγράμματα κινητικότητας. | I36: • Εκπαιδεύστε τους ομότιμους υποστηρικτές στην επικοινωνία χωρίς αποκλεισμούς, την εμπιστευτικότητα και την πολιτισμική ευαισθητοποίηση. • Αναπτύξτε το δίκτυο ομότιμης υποστήριξης ώστε να είναι διαθέσιμο για όλα τα προγράμματα κινητικότητας. • Εντάξτε την ομότιμη υποστήριξη ως κανονικό μέρος των διαδικασιών κινητικότητας (π.χ. κατά τη διάρκεια της προσαρμογής).
A37: M5 | B37: 3 | C37: ='Αξιολόγηση ενοτήτων'!C45 -> Σε ποιο βαθμό ο οργανισμός σας χρησιμοποιεί ποικίλα πρότυπα αναφοράς στα επικοινωνιακά υλικά για να ενθαρρύνει τη συμμετοχή των φοιτητών σε προγράμματα κινητικότητας; | D37: ='Αξιολόγηση ενοτήτων'!D45 -> 0 | E37: =IFERROR(IF('Αξιολόγηση ενοτήτων'!D45="","",IF('Αξιολόγηση ενοτήτων'!D45<=2,"Elementary - Basic - Satisfactory","Good to Very Good (cumulative)")),"") | F37: =IFERROR(IF('Αξιολόγηση ενοτήτων'!D45="","— Enter a score in the Αξιολόγηση ενοτήτων sheet —",IF('Αξιολόγηση ενοτήτων'!D45<=2,H37,I37)),"") -> — Enter a score in the Αξιολόγηση ενοτήτων sheet — | H37: • Χρησιμοποιήστε πραγματικές, ποικίλες ιστορίες ή μαρτυρίες σε φυλλάδια και στον ιστότοπο. • Ελέγξτε τα επικοινωνιακά υλικά για να βεβαιωθείτε ότι είναι σαφή και χρησιμοποιούν απλή γλώσσα. • Παρέχετε βασικές πληροφορίες στους επιβλέποντες και τους φοιτητές μέσω μιας εύκολα προσβάσιμης σελίδας πληροφοριών για την κινητικότητα. | I37: • Χρησιμοποιήστε ποικίλα πρότυπα αναφοράς σε βίντεο, φυλλάδια και διαδικτυακό υλικό (αναπηρία, φύλο, πολιτισμική ποικιλομορφία). • Βεβαιωθείτε ότι όλη η επικοινωνία ακολουθεί τα πρότυπα προσβασιμότητας (WCAG). • Προσφέρετε ενημερωτικές συνεδρίες για την κινητικότητα χωρίς αποκλεισμούς σε διαφορετικές μορφές (διαδικτυακά, δια ζώσης, οπτικές περιλήψεις, βίντεο με υπότιτλους).
A38: M5 | B38: 4 | C38: ='Αξιολόγηση ενοτήτων'!C46 -> Σε ποιο βαθμό ο οργανισμός ΕΕΚ σας επικοινωνεί αποτελεσματικά τις επιλογές κινητικότητας και τη σχετική υποστήριξη στους φοιτητές και τους επόπτες μέσω προσβάσιμων και χωρίς αποκλεισμούς καναλιών (ιστοσελίδες, φυλλάδια, συναντήσεις); | D38: ='Αξιολόγηση ενοτήτων'!D46 -> 0 | E38: =IFERROR(IF('Αξιολόγηση ενοτήτων'!D46="","",IF('Αξιολόγηση ενοτήτων'!D46<=2,"Elementary - Basic - Satisfactory","Good to Very Good (cumulative)")),"") | F38: =IFERROR(IF('Αξιολόγηση ενοτήτων'!D46="","— Enter a score in the Αξιολόγηση ενοτήτων sheet —",IF('Αξιολόγηση ενοτήτων'!D46<=2,H38,I38)),"") -> — Enter a score in the Αξιολόγηση ενοτήτων sheet — | H38: • Ενημερώστε με σαφήνεια για τις επιλογές κινητικότητας και τη διαθέσιμη υποστήριξη μέσω τουλάχιστον ενός προσβάσιμου καναλιού. • Βεβαιωθείτε ότι τόσο οι επιβλέποντες όσο και οι φοιτητές λαμβάνουν έγκαιρα πληροφορίες σχετικά με την υποστήριξη κινητικότητας. • Χρησιμοποιήστε απλή γλώσσα και μορφές χωρίς αποκλεισμούς σε όλα τα κανάλια επικοινωνίας. | I38: • Βεβαιωθείτε ότι όλα τα κανάλια επικοινωνίας είναι βελτιστοποιημένα για διαφορετικές ανάγκες υποστήριξης (μεγάλα γράμματα, μεταφράσεις, λογισμικό ομιλίας). • Διοργανώστε ενημερωτικές συνεδρίες για την κινητικότητα χωρίς αποκλεισμούς σε πολλαπλές προσβάσιμες μορφές. • Προσαρμόστε όλες τις συναντήσεις και την παροχή πληροφοριών σε φοιτητές με διαφορετικές ανάγκες υποστήριξης.
A39: M5 | B39: 5 | C39: ='Αξιολόγηση ενοτήτων'!C47 -> Σε ποιο βαθμό ο οργανισμός σας διασφαλίζει ότι το ψηφιακό υλικό που σχετίζεται με την κινητικότητα (ιστοσελίδες, έντυπα, οδηγοί) πληροί τα πρότυπα προσβασιμότητας (π.χ. συμβατότητα με προγράμματα ανάγνωσης οθόνης, μορφές εύκολης ανάγνωσης, επαρκής χρωματική αντίθεση) για φοιτητές με αναπηρίες; | D39: ='Αξιολόγηση ενοτήτων'!D47 -> 0 | E39: =IFERROR(IF('Αξιολόγηση ενοτήτων'!D47="","",IF('Αξιολόγηση ενοτήτων'!D47<=2,"Elementary - Basic - Satisfactory","Good to Very Good (cumulative)")),"") | F39: =IFERROR(IF('Αξιολόγηση ενοτήτων'!D47="","— Enter a score in the Αξιολόγηση ενοτήτων sheet —",IF('Αξιολόγηση ενοτήτων'!D47<=2,H39,I39)),"") -> — Enter a score in the Αξιολόγηση ενοτήτων sheet — | H39: • Χρησιμοποιήστε προσβάσιμη και χωρίς αποκλεισμούς γλώσσα και βεβαιωθείτε ότι όλες οι ψηφιακές πλατφόρμες συμμορφώνονται με τις Οδηγίες Προσβασιμότητας Περιεχομένου Ιστού (WCAG). • Εντοπίστε τα εμπόδια στην ψηφιακή προσβασιμότητα στα υλικά κινητικότητας και ευαισθητοποιήστε το προσωπικό σχετικά με τις πρακτικές επικοινωνίας χωρίς αποκλεισμούς. • Εκπαιδεύστε τους συντονιστές σχετικά με την ψηφιακή προσβασιμότητα και προσφέρετε συνεδρίες πριν την αναχώρηση σχετικά με τις τεχνολογίες υποβοήθησης. | I39: • Ελέγξτε όλες τις επικοινωνίες του ιδρύματος και τις ψηφιακές πλατφόρμες ως προς τη χρήση γλώσσας χωρίς αποκλεισμούς και την προσβασιμότητα και ενημερώστε τις αναλόγως. • Αναπτύξτε μια επίσημη πολιτική για τη γλώσσα χωρίς αποκλεισμούς και την ψηφιακή προσβασιμότητα, ενσωματώνοντάς την στην εισαγωγική εκπαίδευση του προσωπικού. • Εμπλέξτε φοιτητές με αναπηρίες στην αναθεώρηση του υλικού και βεβαιωθείτε ότι όλα τα εργαλεία υποστηρίζουν ποικίλες ανάγκες (Braille, λογισμικό ομιλίας, πολυγλωσσικές μορφές).
A41: Ενότητα 6 — Ευαισθητοποίηση και υπεράσπιση
A42: M6 | B42: 1 | C42: ='Αξιολόγηση ενοτήτων'!C52 -> Ο οργανισμός σας υλοποιεί εκστρατείες, εργαστήρια ή ενημερωτικές συνεδρίες για την προώθηση της κινητικότητας των φοιτητών με αναπηρίες; | D42: ='Αξιολόγηση ενοτήτων'!D52 -> 0 | E42: =IFERROR(IF('Αξιολόγηση ενοτήτων'!D52="","",IF('Αξιολόγηση ενοτήτων'!D52<=2,"Elementary - Basic - Satisfactory","Good to Very Good (cumulative)")),"") | F42: =IFERROR(IF('Αξιολόγηση ενοτήτων'!D52="","— Enter a score in the Αξιολόγηση ενοτήτων sheet —",IF('Αξιολόγηση ενοτήτων'!D52<=2,H42,I42)),"") -> — Enter a score in the Αξιολόγηση ενοτήτων sheet — | H42: • Μοιραστείτε πληροφορίες σχετικά με τις ευκαιρίες κινητικότητας μέσω τουλάχιστον ενός προσβάσιμου καναλιού (ενημερωτικό δελτίο, ιστότοπος). • Οργανώστε τουλάχιστον μία εκδήλωση ή συνεδρία όπου οι φοιτητές με αναπηρίες μπορούν να υποβάλουν ερωτήσεις σχετικά με τη μετάβαση στο εξωτερικό. • Βεβαιωθείτε ότι οι συνεδρίες πραγματοποιούνται σε προσβάσιμους χώρους και μορφές. | I42: • Ανάπτυξη μιας εξατομικευμένης στρατηγικής επικοινωνίας που απευθύνεται ειδικά σε φοιτητές με αναπηρίες. • Δημιουργία προσβάσιμου υλικού (οπτικού, ακουστικού, ψηφιακού) που να αναδεικνύει τις ευκαιρίες κινητικότητας και τη διαθέσιμη υποστήριξη. • Ενσωμάτωση των πληροφοριών για την κινητικότητα χωρίς αποκλεισμούς ως τυπικό μέρος όλων των επικοινωνιών προς τους φοιτητές.
A43: M6 | B43: 2 | C43: ='Αξιολόγηση ενοτήτων'!C53 -> Ο οργανισμός σας προωθεί ενεργά την προσβασιμότητα και την ένταξη κατά τη συνεργασία του με τους οργανισμούς υποδοχής; | D43: ='Αξιολόγηση ενοτήτων'!D53 -> 0 | E43: =IFERROR(IF('Αξιολόγηση ενοτήτων'!D53="","",IF('Αξιολόγηση ενοτήτων'!D53<=2,"Elementary - Basic - Satisfactory","Good to Very Good (cumulative)")),"") | F43: =IFERROR(IF('Αξιολόγηση ενοτήτων'!D53="","— Enter a score in the Αξιολόγηση ενοτήτων sheet —",IF('Αξιολόγηση ενοτήτων'!D53<=2,H43,I43)),"") -> — Enter a score in the Αξιολόγηση ενοτήτων sheet — | H43: • Επικοινωνήστε με τους φορείς υποδοχής, όταν είναι απαραίτητο, για να συζητήσετε τις προσαρμογές του χώρου εργασίας για τον φοιτητή. • Διατηρήστε έναν κατάλογο φορέων υποδοχής που διαθέτουν τον κατάλληλο εξοπλισμό για την υποστήριξη φοιτητών με αναπηρίες. • Συζητήστε με τους φορείς υποδοχής πώς μπορεί να οργανωθεί η εποπτεία ώστε να ανταποκρίνεται στις ανάγκες του φοιτητή. | I43: • Παρέχετε στους οργανισμούς υποδοχής πρακτικό υλικό για τη δημιουργία ενός χώρου εργασίας χωρίς αποκλεισμούς (οδηγούς, παρουσιάσεις). • Οργανώστε εκπαιδευτικές συνεδρίες για τους οργανισμούς υποδοχής σχετικά με την υποστήριξη των ασκούμενων με αναπηρίες. • Συνεργαστείτε ενεργά με τους οργανισμούς υποδοχής για την ανάπτυξη προγραμμάτων πρακτικής άσκησης χωρίς αποκλεισμούς.
A44: M6 | B44: 3 | C44: ='Αξιολόγηση ενοτήτων'!C54 -> Ο οργανισμός σας συλλέγει και χρησιμοποιεί τα σχόλια των φοιτητών με αναπηρίες για τη βελτίωση των προγραμμάτων κινητικότητας; | D44: ='Αξιολόγηση ενοτήτων'!D54 -> 0 | E44: =IFERROR(IF('Αξιολόγηση ενοτήτων'!D54="","",IF('Αξιολόγηση ενοτήτων'!D54<=2,"Elementary - Basic - Satisfactory","Good to Very Good (cumulative)")),"") | F44: =IFERROR(IF('Αξιολόγηση ενοτήτων'!D54="","— Enter a score in the Αξιολόγηση ενοτήτων sheet —",IF('Αξιολόγηση ενοτήτων'!D54<=2,H44,I44)),"") -> — Enter a score in the Αξιολόγηση ενοτήτων sheet — | G44: Δείτε ένα επεξηγηματικό παράδειγμα κάνοντας κλικ εδώ | H44: • Διασφαλίστε ότι το προσωπικό διαθέτει βασικές γνώσεις σχετικά με τις προκλήσεις που αντιμετωπίζουν οι φοιτητές με αναπηρίες όταν ταξιδεύουν στο εξωτερικό. • Διοργανώστε περιστασιακά ενημερωτικές συνεδρίες σχετικά με τη σημασία της ένταξης στη διεθνή κινητικότητα. • Ζητήστε τη συμβουλή εξωτερικών εμπειρογνωμόνων σχετικά με την υποστήριξη φοιτητών με αναπηρίες. • Για ένα παράδειγμα φόρμας ανατροφοδότησης, ανατρέξτε στο Παράρτημα 8.5 (Φόρμα ανατροφοδότησης μετά την πρακτική άσκηση) στις κατευθυντήριες γραμμές του IMVET: Παραρτήματα - IMVET. | I44: • Να αναπτύξει έναν δομημένο οδηγό για εκπαιδευτικούς και βοηθητικό προσωπικό σχετικά με τις ιδιαίτερες ανάγκες των φοιτητών με αναπηρίες κατά τη διάρκεια της κινητικότητας. • Να παρέχει πρόσβαση σε συνεχή επαγγελματική ανάπτυξη (εργαστήρια, σεμινάρια) σχετικά με την ένταξη και τη διεθνή κινητικότητα. • Να ορίσει έναν ειδικό υπεύθυνο επικοινωνίας για φοιτητές με αναπηρίες, ο οποίος θα συνδέεται με το γραφείο διεθνούς κινητικότητας.
A45: M6 | B45: 4 | C45: ='Αξιολόγηση ενοτήτων'!C55 -> Ο οργανισμός σας παρακολουθεί και αξιολογεί την αποτελεσματικότητα των πρακτικών του για την κινητικότητα χωρίς αποκλεισμούς; | D45: ='Αξιολόγηση ενοτήτων'!D55 -> 0 | E45: =IFERROR(IF('Αξιολόγηση ενοτήτων'!D55="","",IF('Αξιολόγηση ενοτήτων'!D55<=2,"Elementary - Basic - Satisfactory","Good to Very Good (cumulative)")),"") | F45: =IFERROR(IF('Αξιολόγηση ενοτήτων'!D55="","— Enter a score in the Αξιολόγηση ενοτήτων sheet —",IF('Αξιολόγηση ενοτήτων'!D55<=2,H45,I45)),"") -> — Enter a score in the Αξιολόγηση ενοτήτων sheet — | H45: • Δημιουργία απλών μηχανισμών για τη συλλογή ανατροφοδότησης από φοιτητές με αναπηρίες μετά από κάθε κινητικότητα. • Ανάλυση της ανατροφοδότησης και κοινοποίηση των ευρημάτων στο αρμόδιο προσωπικό. • Χρήση της ανατροφοδότησης για την πραγματοποίηση τουλάχιστον μίας συγκεκριμένης βελτίωσης σε κάθε επόμενο πρόγραμμα κινητικότητας. | I45: • Ανάπτυξη ενός συστηματικού πλαισίου αξιολόγησης για τις πρακτικές κινητικότητας χωρίς αποκλεισμούς, που θα καλύπτει τις προοπτικές των φοιτητών, του προσωπικού και του οργανισμού υποδοχής. • Παρακολούθηση βασικών δεικτών με την πάροδο του χρόνου και ετήσια αναφορά της προόδου. • Χρήση των ευρημάτων της αξιολόγησης για την προώθηση στρατηγικών βελτιώσεων στην κινητικότητα χωρίς αποκλεισμούς.

Sheet Βαθμολογίες
A1: Βαθμολογία | B1: Συντομογραφία | C1: Πλήρης ονομασία | D1: Περιγραφή
A2: 0 | B2: Δεν υπάρχει | C2: Δεν εφαρμόζεται | D2: Δεν υπάρχει πρακτική, πολιτική ή στοιχεία σε αυτόν τον τομέα. Ο οργανισμός δεν έχει αρχίσει ακόμη να ασχολείται με την κινητικότητα χωρίς αποκλεισμούς.
A3: 1 | B3: Περιορισμένα στοιχεία | C3: Στοιχειώδης - Βασική - Ικανοποιητική | D3: Δεν υπάρχει σαφής πολιτική ή στοιχεία σχετικά με την κινητικότητα χωρίς αποκλεισμούς. Το προσωπικό δεν έχει επίγνωση ή δεν μπορεί να επιδείξει δράσεις για την υποστήριξη διαφορετικών συμμετεχόντων.
A4: 2 | B4: Βασικό επίπεδο | C4: Στοιχειώδης - Βασική - Ικανοποιητική | D4: Υπάρχει κάποια ευαισθητοποίηση (π.χ. αναφορές σε έγγραφα πολιτικής), αλλά οι δράσεις είναι ελάχιστες ή ασυνεπείς. Η προσβασιμότητα είναι ως επί το πλείστον μη προγραμματισμένη και αντιδραστική.
A5: 3 | B5: Καλά δομημένο | C5: Καλό έως Πολύ καλό (σωρευτικό) | D5: Σαφείς πολιτικές και διαδικασίες για την υποστήριξη της κινητικότητας χωρίς αποκλεισμούς. Εκπαιδευμένο προσωπικό, ενεργή προβολή, προγραμματισμένες διευκολύνσεις, παρακολούθηση σε εξέλιξη.
A6: 4 | B6: Άριστο | C6: Καλό έως Πολύ καλό (σωρευτικό) | D6: Η κινητικότητα χωρίς αποκλεισμούς είναι πλήρως ενσωματωμένη στην κουλτούρα και τη στρατηγική του οργανισμού: προληπτική πρόσληψη, ολοκληρωμένα συστήματα υποστήριξης, συν-δημιουργία με τους συμμετέχοντες, τακτική αξιολόγηση.
